BEGIN:VCALENDAR
VERSION:2.0
PRODID:-//wp-events-plugin.com//7.2.3.1//EN
TZID:America/Detroit
X-WR-TIMEZONE:America/Detroit
BEGIN:VEVENT
UID:93269@annarborwithkids.com
DTSTART;TZID=America/Detroit:20260418T130000
DTEND;TZID=America/Detroit:20260418T160000
DTSTAMP:20260323T205043Z
URL:https://annarborwithkids.com/events/community-resources-summer-opportu
 nities-fair/
SUMMARY:Community Resources &amp\; Summer Opportunities Fair
DESCRIPTION:\nJoin YDL for an intergenerational community and resource fair
  focused on highlighting career opportunities\, transferrable skills and c
 ommunity resources for all ages. Come out and enjoy life-sized games\, res
 ume building\, and connection while discovering your next move. \n\n\n\nJ
 oin them in Library Plaza for the event.\n
CATEGORIES:Arbor Annie's Highlights,Elementary,Free,Games,High
 Schoolers,Middle Schoolers,Outdoor,Parents
LOCATION:Ypsilanti District Library - Michigan Ave Branch\, 229 West Michig
 an Avenue\, Ypsilanti\, Michigan\, 48197\, Ypsilanti\, United States
GEO:42.240746;-83.61565
X-APPLE-STRUCTURED-LOCATION;VALUE=URI;X-ADDRESS=229 West Michigan Avenue\, 
 Ypsilanti\, Michigan\, 48197\, Ypsilanti\, United States;X-APPLE-RADIUS=10
 0;X-TITLE=Ypsilanti District Library - Michigan Ave Branch:geo:42.240746,-
 83.61565
END:VEVENT
BEGIN:VTIMEZONE
TZID:America/Detroit
X-LIC-LOCATION:America/Detroit
BEGIN:DAYLIGHT
DTSTART:20260308T030000
TZOFFSETFROM:-0500
TZOFFSETTO:-0400
TZNAME:EDT
END:DAYLIGHT
END:VTIMEZONE
END:VCALENDAR