BEGIN:VCALENDAR
VERSION:2.0
PRODID:-//wp-events-plugin.com//7.2.3.1//EN
TZID:America/Detroit
X-WR-TIMEZONE:America/Detroit
BEGIN:VEVENT
UID:89930@annarborwithkids.com
DTSTART;TZID=America/Detroit:20251025T130000
DTEND;TZID=America/Detroit:20251025T160000
DTSTAMP:20251002T201814Z
URL:https://annarborwithkids.com/events/community-harvest-party/
SUMMARY:Community Harvest Party
DESCRIPTION:\nThe Ypsilanti Farmers Market will hold a Community Harvest Pa
 rty on October 25 after the Spooky Market - their last Farmers Market of t
 he season\n\n\n\nAs the morning winds down\, stick around for the final ce
 lebration of the season! Gather together for a community meal and harvest 
 festivities. If you desire\, bring a sweet or savory dish to share (and pl
 ease list allergens). Enjoy live music and dancing\, pumpkin carving\, fac
 e painting\, a donut-eating contest\, and plenty of games and prizes throu
 ghout the afternoon.\n\n\n\n\n\n\n
CATEGORIES:Arbor Annie's Highlights,Elementary,Food,Free,Halloween,High
 Schoolers,Indoor Activities,Meal,Middle
 Schoolers,Music/Concerts,Parents,Preschoolers,Toddler
LOCATION:Downtown Ypsilanti Farmers Market\, 16 South Washington\, Ypsilant
 i\, Michigan\, 48197\, Ypsilanti\, United States
GEO:42.240193;-83.61496999999997
X-APPLE-STRUCTURED-LOCATION;VALUE=URI;X-ADDRESS=16 South Washington\, Ypsil
 anti\, Michigan\, 48197\, Ypsilanti\, United States;X-APPLE-RADIUS=100;X-T
 ITLE=Downtown Ypsilanti Farmers Market:geo:42.240193,-83.61496999999997
END:VEVENT
BEGIN:VTIMEZONE
TZID:America/Detroit
X-LIC-LOCATION:America/Detroit
BEGIN:DAYLIGHT
DTSTART:20250309T030000
TZOFFSETFROM:-0500
TZOFFSETTO:-0400
TZNAME:EDT
END:DAYLIGHT
END:VTIMEZONE
END:VCALENDAR