BEGIN:VCALENDAR
VERSION:2.0
PRODID:-//wp-events-plugin.com//7.2.3.1//EN
TZID:America/Detroit
X-WR-TIMEZONE:America/Detroit
BEGIN:VEVENT
UID:90016@annarborwithkids.com
DTSTART;TZID=America/Detroit:20260422T180000
DTEND;TZID=America/Detroit:20260422T190000
DTSTAMP:20260416T223347Z
URL:https://annarborwithkids.com/events/communitea-table-5/
SUMMARY:CommuniTEA : Multipurpose Leather Strap
DESCRIPTION:\nEver wanted to learn how to work with leather? \n\n\n\nBliss 
 Ledford will lead a multi-purpose leather strap workshop where you’ll ge
 t hands-on experience creating and customizing your own leather piece. Too
 ls and kits will be provided\, and you’re welcome to bring your own leat
 her belt to work on as well. Bliss will also share examples of other leath
 er items to show what’s possible with a little creativity and fun.\n\n\n
 \n\n\nThe event is free\, but advanced registration is required.\n
CATEGORIES:Advance Registration,Arbor Annie's
 Highlights,Crafts,Elementary,Fiber Arts,Food,High Schoolers,Indoor
 Activities,Middle Schoolers,Parents,Registration Required
LOCATION:Washteanw Food Hub\, 4175 Whitmore Lake Rd\, Ann Arbor\, Michigan\
 , 48105\, United States
GEO:42.332742;-83.751807
X-APPLE-STRUCTURED-LOCATION;VALUE=URI;X-ADDRESS=4175 Whitmore Lake Rd\, Ann
  Arbor\, Michigan\, 48105\, United States;X-APPLE-RADIUS=100;X-TITLE=Washt
 eanw Food Hub:geo:42.332742,-83.751807
END:VEVENT
BEGIN:VTIMEZONE
TZID:America/Detroit
X-LIC-LOCATION:America/Detroit
BEGIN:DAYLIGHT
DTSTART:20260308T030000
TZOFFSETFROM:-0500
TZOFFSETTO:-0400
TZNAME:EDT
END:DAYLIGHT
END:VTIMEZONE
END:VCALENDAR