BEGIN:VCALENDAR
VERSION:2.0
PRODID:-//wp-events-plugin.com//7.2.3.1//EN
TZID:America/Detroit
X-WR-TIMEZONE:America/Detroit
BEGIN:VEVENT
UID:90015@annarborwithkids.com
DTSTART;TZID=America/Detroit:20251105T170000
DTEND;TZID=America/Detroit:20251105T180000
DTSTAMP:20251010T211345Z
URL:https://annarborwithkids.com/events/communitea-table-4/
SUMMARY:CommuniTEA Table
DESCRIPTION:\nLiz Barney | Brew'd : Sourdough Treats for the Holidays\n\n\n
 \nWarm up your kitchen this season with the magic of sourdough! Join host 
 Liz Barney as she guides you through making festive sourdough treats perfe
 ct for holiday gatherings. Learn how to work with a simple starter\, exper
 iment with sweet and savory variations\, and take home recipes you’ll wa
 nt to bake again and again.\n\n\n\n\n\n\n\n\n
CATEGORIES:Arbor Annie's Highlights,Christmas,Elementary,Food,Hanukah,High
 Schoolers,Indoor Activities,Middle
 Schoolers,Parents,Preschoolers,Thanksgiving,Toddler
LOCATION:Washteanw Food Hub\, 4175 Whitmore Lake Rd\, Ann Arbor\, Michigan\
 , 48105\, United States
GEO:42.332742;-83.751807
X-APPLE-STRUCTURED-LOCATION;VALUE=URI;X-ADDRESS=4175 Whitmore Lake Rd\, Ann
  Arbor\, Michigan\, 48105\, United States;X-APPLE-RADIUS=100;X-TITLE=Washt
 eanw Food Hub:geo:42.332742,-83.751807
END:VEVENT
BEGIN:VTIMEZONE
TZID:America/Detroit
X-LIC-LOCATION:America/Detroit
BEGIN:STANDARD
DTSTART:20251102T010000
TZOFFSETFROM:-0400
TZOFFSETTO:-0500
TZNAME:EST
END:STANDARD
END:VTIMEZONE
END:VCALENDAR