BEGIN:VCALENDAR
VERSION:2.0
PRODID:-//wp-events-plugin.com//7.2.3.1//EN
TZID:America/Detroit
X-WR-TIMEZONE:America/Detroit
BEGIN:VEVENT
UID:93527@annarborwithkids.com
DTSTART;TZID=America/Detroit:20260506T180000
DTEND;TZID=America/Detroit:20260506T190000
DTSTAMP:20260416T223847Z
URL:https://annarborwithkids.com/events/communitea-mothers-day-bon-bons/
SUMMARY:CommuniTEA : Mothers Day Bon Bons
DESCRIPTION:\nCelebrate Mother’s Day with Barbara Wilson of Mindo Chocola
 te Makers. \n\n\n\nParticipants will create a box of handcrafted Strawberr
 y bonbons by piping silky milk chocolate ganache into pre-made shells\, de
 corating them\, and taking home five chocolates to share. \n\n\n\nThis fam
 ily-friendly class is open to all ages. Tickets are $16 each\, with each t
 icket corresponding to one box of chocolates. You may purchase more than o
 ne—perfect for sharing with all the mothers in your life.\n\n\n\nAdvance
 d registration is required.\n\n\n\n\n
CATEGORIES:Advance Registration,Arbor Annie's
 Highlights,Crafts,Elementary,Fiber Arts,Food,High Schoolers,Indoor
 Activities,Middle Schoolers,Mother's Day,Parents,Registration Required
LOCATION:Washteanw Food Hub\, 4175 Whitmore Lake Rd\, Ann Arbor\, Michigan\
 , 48105\, United States
GEO:42.332742;-83.751807
X-APPLE-STRUCTURED-LOCATION;VALUE=URI;X-ADDRESS=4175 Whitmore Lake Rd\, Ann
  Arbor\, Michigan\, 48105\, United States;X-APPLE-RADIUS=100;X-TITLE=Washt
 eanw Food Hub:geo:42.332742,-83.751807
END:VEVENT
BEGIN:VTIMEZONE
TZID:America/Detroit
X-LIC-LOCATION:America/Detroit
BEGIN:DAYLIGHT
DTSTART:20260308T030000
TZOFFSETFROM:-0500
TZOFFSETTO:-0400
TZNAME:EDT
END:DAYLIGHT
END:VTIMEZONE
END:VCALENDAR