BEGIN:VCALENDAR
VERSION:2.0
PRODID:-//wp-events-plugin.com//7.2.3.1//EN
TZID:America/Detroit
X-WR-TIMEZONE:America/Detroit
BEGIN:VEVENT
UID:77238@annarborwithkids.com
DTSTART;TZID=America/Detroit:20260329T140000
DTEND;TZID=America/Detroit:20260329T160000
DTSTAMP:20260324T182628Z
URL:https://annarborwithkids.com/events/colorful-butterfly-tipsy-ypsi/
SUMMARY:Colorful Butterfly - Tipsy Ypsi
DESCRIPTION:\nTeens &amp\; adults can join Tipsy Ypsi for this PG-13 event 
 to paint a Colorful Butterfly\n
CATEGORIES:Advance Registration,Arbor Annie's Highlights,Art,Crafts,High
 Schoolers,Indoor Activities,Middle Schoolers,Parents,Spring Fun
LOCATION:Tipsy Ypsi Paint & Pour\, 5 S Washington St\, Ypsilanti\, MI - Mic
 higan\, 48197\, MI - Michigan\, United States
GEO:42.240618;-83.61441
X-APPLE-STRUCTURED-LOCATION;VALUE=URI;X-ADDRESS=5 S Washington St\, Ypsilan
 ti\, MI - Michigan\, 48197\, MI - Michigan\, United States;X-APPLE-RADIUS=
 100;X-TITLE=Tipsy Ypsi Paint & Pour:geo:42.240618,-83.61441
END:VEVENT
BEGIN:VTIMEZONE
TZID:America/Detroit
X-LIC-LOCATION:America/Detroit
BEGIN:DAYLIGHT
DTSTART:20260308T030000
TZOFFSETFROM:-0500
TZOFFSETTO:-0400
TZNAME:EDT
END:DAYLIGHT
END:VTIMEZONE
END:VCALENDAR