BEGIN:VCALENDAR
VERSION:2.0
PRODID:-//wp-events-plugin.com//7.2.3.1//EN
TZID:America/Detroit
X-WR-TIMEZONE:America/Detroit
BEGIN:VEVENT
UID:86127@annarborwithkids.com
DTSTART;TZID=America/Detroit:20260530T090000
DTEND;TZID=America/Detroit:20260530T120000
DTSTAMP:20260326T163759Z
URL:https://annarborwithkids.com/events/color-fun-run/
SUMMARY:Color Fun Run
DESCRIPTION:\nLincoln Middle School NJHS is holding a Color Fun Run &amp\; 
 Walk. The walk is one mile along Lincoln trail starting at the Middle Scho
 ol.\n\n\n\nAt each quarter mile\, color runners will be splashed with a di
 fferent color powder. After the race\, the finishers party will have music
 \, dancing\, photo ops\, food trucks\, and a color throw\,\n\n\n\nThis hig
 h-energy color filled event is for all ages and will include:\n\n\n\nWhen 
 registering be sure to select the correct division (PreK-5th or 6th-Adult)
 \n\n\n\n\n\n\n
CATEGORIES:Advance Registration,Arbor Annie's Highlights,Charitable
 Event,Elementary,Fitness/Health,Food,High Schoolers,Middle
 Schoolers,Other,Outdoor,Parents,Race,Registration Required,School
 Fundraiser,Sport
LOCATION:Lincoln Middle School\, 8744 Whittaker Rd\, Ypsilanti\, Michigan\,
  48197\, United States
GEO:42.161177;-83.60958
X-APPLE-STRUCTURED-LOCATION;VALUE=URI;X-ADDRESS=8744 Whittaker Rd\, Ypsilan
 ti\, Michigan\, 48197\, United States;X-APPLE-RADIUS=100;X-TITLE=Lincoln M
 iddle School:geo:42.161177,-83.60958
END:VEVENT
BEGIN:VTIMEZONE
TZID:America/Detroit
X-LIC-LOCATION:America/Detroit
BEGIN:DAYLIGHT
DTSTART:20260308T030000
TZOFFSETFROM:-0500
TZOFFSETTO:-0400
TZNAME:EDT
END:DAYLIGHT
END:VTIMEZONE
END:VCALENDAR