BEGIN:VCALENDAR
VERSION:2.0
PRODID:-//wp-events-plugin.com//7.2.3.1//EN
TZID:America/Detroit
X-WR-TIMEZONE:America/Detroit
BEGIN:VEVENT
UID:86204@annarborwithkids.com
DTSTART;TZID=America/Detroit:20250724T110000
DTEND;TZID=America/Detroit:20250724T110000
DTSTAMP:20250607T165936Z
URL:https://annarborwithkids.com/events/cloudy-with-a-chance-of-meatballs-
 summer-kids-series-2025-07-24/
SUMMARY:The Angry Birds Movie 2 - Summer Kids Series
DESCRIPTION:\nEmagine's Summer Kids Series runs June 20-August 21 with a di
 fferent movie each week.\n\n\n\nToday's movie is The Angry Birds Movie 2 \
 n\n\n\nAs of May 3 when we added the movies to the calendar\, all showtime
 s are at 11a. However\, with past series we observed that they sometimes g
 et changed the week of the show. Be sure to verify the time before heading
  to the theater.\n\n\n\n\n
CATEGORIES:Advance Registration,Arbor Annie's
 Highlights,Elementary,Frugal,Indoor Activities,Middle
 Schoolers,Movies,Parents,Preschoolers
LOCATION:Emagine Saline\, 1335 E. Michigan Avenue\, Saline\, Michigan\, 481
 76\, Saline\, United States
GEO:42.1778;-83.75915900000001
X-APPLE-STRUCTURED-LOCATION;VALUE=URI;X-ADDRESS=1335 E. Michigan Avenue\, S
 aline\, Michigan\, 48176\, Saline\, United States;X-APPLE-RADIUS=100;X-TIT
 LE=Emagine Saline:geo:42.1778,-83.75915900000001
END:VEVENT
BEGIN:VTIMEZONE
TZID:America/Detroit
X-LIC-LOCATION:America/Detroit
BEGIN:DAYLIGHT
DTSTART:20250309T030000
TZOFFSETFROM:-0500
TZOFFSETTO:-0400
TZNAME:EDT
END:DAYLIGHT
END:VTIMEZONE
END:VCALENDAR