BEGIN:VCALENDAR
VERSION:2.0
PRODID:-//wp-events-plugin.com//7.2.3.1//EN
TZID:America/Detroit
X-WR-TIMEZONE:America/Detroit
BEGIN:VEVENT
UID:70498@annarborwithkids.com
DTSTART;TZID=America/Detroit:20260328T110000
DTEND;TZID=America/Detroit:20260328T120000
DTSTAMP:20260309T215341Z
URL:https://annarborwithkids.com/events/cirque-amongus/
SUMMARY:Cirque AmongUs
DESCRIPTION:\nJoin Cirque AmongUs to try out different circus skills especi
 ally designed for little ones\, that involve balance\, wheels\, and coordi
 nation. \n\n\n\nFor ages 3-6\n\n\n\n\n\n\n\n\n
CATEGORIES:Arbor Annie's Highlights,Free,Indoor
 Activities,Preschoolers,Toddler
LOCATION:Ypsilanti District Library - Whittaker Rd\, 5577 Whittaker Rd\, Yp
 silanti\, Michigan\, 48197\, Ypsilanti\, United States
GEO:42.208097;-83.61557
X-APPLE-STRUCTURED-LOCATION;VALUE=URI;X-ADDRESS=5577 Whittaker Rd\, Ypsilan
 ti\, Michigan\, 48197\, Ypsilanti\, United States;X-APPLE-RADIUS=100;X-TIT
 LE=Ypsilanti District Library - Whittaker Rd:geo:42.208097,-83.61557
END:VEVENT
BEGIN:VTIMEZONE
TZID:America/Detroit
X-LIC-LOCATION:America/Detroit
BEGIN:DAYLIGHT
DTSTART:20260308T030000
TZOFFSETFROM:-0500
TZOFFSETTO:-0400
TZNAME:EDT
END:DAYLIGHT
END:VTIMEZONE
END:VCALENDAR