BEGIN:VCALENDAR
VERSION:2.0
PRODID:-//wp-events-plugin.com//7.2.3.1//EN
TZID:America/Detroit
X-WR-TIMEZONE:America/Detroit
BEGIN:VEVENT
UID:90081@annarborwithkids.com
DTSTART;TZID=America/Detroit:20260430T190000
DTEND;TZID=America/Detroit:20260430T190000
DTSTAMP:20251015T170721Z
URL:https://annarborwithkids.com/events/chicago-teen-edition-2026-04-30/
SUMMARY:Chicago - Teen Edition
DESCRIPTION:\nPioneer Theatre Guild presents Chicago - Teen Edition as thei
 r spring musical.\n\n\n\nAbout the Show:\n\n\n\n\nIn “Roaring Twenties
 ” Chicago\, chorine Roxie Hart murders a faithless lover and convinces h
 er hapless husband\, Amos\, to take the rap… until he finds out he’s b
 een duped and turns on Roxie. Convicted and sent to death row\, Roxie and 
 another “Merry Murderess\,” Velma Kelly\, vie for the spotlight and th
 e headlines\, ultimately joining forces in search of the “American Dream
 ”: fame\, fortune\, and acquittal.\n\n\n\n\n\n\n\n\nTickets are $20/Adul
 ts\, $15/Students\, Seniors (65+)\, and Pioneer Staff. (Based on The Spong
 ebob Musical in November)\n\n\n\nChicago Showtimes\n\n\n\n[events_list tag
 ="ptg" scope="2026-04-25\,2026-05-10"]🎭 #_{l\, F j} at #_EVENTTIMES - #
 _EVENTLINK at Pioneer High School[/events_list]\n\n\n\n\n
CATEGORIES:Advance Registration,Arbor Annie's Highlights,High
 Schoolers,Indoor Activities,Middle Schoolers,Optional
 Registration,Parents,Theater
LOCATION:Pioneer High School\, 601 W. Stadium Blvd\, Ann Arbor\, Michigan\,
  48103\, Downtown\, United States
GEO:42.2639996;-83.75463300000001
X-APPLE-STRUCTURED-LOCATION;VALUE=URI;X-ADDRESS=601 W. Stadium Blvd\, Ann A
 rbor\, Michigan\, 48103\, Downtown\, United States;X-APPLE-RADIUS=100;X-TI
 TLE=Pioneer High School:geo:42.2639996,-83.75463300000001
END:VEVENT
BEGIN:VTIMEZONE
TZID:America/Detroit
X-LIC-LOCATION:America/Detroit
BEGIN:DAYLIGHT
DTSTART:20260308T030000
TZOFFSETFROM:-0500
TZOFFSETTO:-0400
TZNAME:EDT
END:DAYLIGHT
END:VTIMEZONE
END:VCALENDAR