BEGIN:VCALENDAR
VERSION:2.0
PRODID:-//wp-events-plugin.com//7.2.3.1//EN
TZID:America/Detroit
X-WR-TIMEZONE:America/Detroit
BEGIN:VEVENT
UID:54846@annarborwithkids.com
DTSTART;TZID=America/Detroit:20260510T130000
DTEND;TZID=America/Detroit:20260510T150000
DTSTAMP:20260323T182335Z
URL:https://annarborwithkids.com/events/chesstastic-4/
SUMMARY:Chesstastic
DESCRIPTION:\nJoin AADL for a relaxing and challenging afternoon of chess
 —one of the world's most popular games! Players of all ages and skill le
 vels are welcome! \n\n\n\nDrop in at any point over the course of the prog
 ram to play old friends and meet new ones. Instruction is not provided\, b
 ut tutorial handouts are available. Chess sets are provided.\n\n\n\nGrade 
 K–adult \n\n\n
CATEGORIES:Chess,Elementary,Free,Games,High Schoolers,Indoor
 Activities,Middle Schoolers,Parents
LOCATION:Traverwood Branch of AADL\, 3333 Traverwood Dr\, Ann Arbor\, Michi
 gan\, 48105\, North Ann Arbor\, United States
GEO:42.307952;-83.71480500000001
X-APPLE-STRUCTURED-LOCATION;VALUE=URI;X-ADDRESS=3333 Traverwood Dr\, Ann Ar
 bor\, Michigan\, 48105\, North Ann Arbor\, United States;X-APPLE-RADIUS=10
 0;X-TITLE=Traverwood Branch of AADL:geo:42.307952,-83.71480500000001
END:VEVENT
BEGIN:VTIMEZONE
TZID:America/Detroit
X-LIC-LOCATION:America/Detroit
BEGIN:DAYLIGHT
DTSTART:20260308T030000
TZOFFSETFROM:-0500
TZOFFSETTO:-0400
TZNAME:EDT
END:DAYLIGHT
END:VTIMEZONE
END:VCALENDAR