BEGIN:VCALENDAR
VERSION:2.0
PRODID:-//wp-events-plugin.com//7.2.3.1//EN
TZID:America/Detroit
X-WR-TIMEZONE:America/Detroit
BEGIN:VEVENT
UID:66842@annarborwithkids.com
DTSTART;TZID=America/Detroit:20260506T183000
DTEND;TZID=America/Detroit:20260506T193000
DTSTAMP:20260416T163446Z
URL:https://annarborwithkids.com/events/chess-club/
SUMMARY:Chess Club
DESCRIPTION:\nKids &amp\; Teens can join Dexter District Library's Chess Cl
 ub. They generally meet the first Monday of the month.\n\n\n\nIf you enjoy
  playing chess\, join Dexter District library for their monthly chess game
 s. Compete in tournament-style play or a casual game and improve your skil
 ls. All kids and teens with at least a basic knowledge of chess gameplay a
 re welcome to attend.\n\n\n\nRegistration is required. Please include grad
 e and skill level.\n
CATEGORIES:Advance Registration,Arbor Annie's
 Highlights,Elementary,Free,Games,High Schoolers,Indoor Activities,Middle
 Schoolers,Registration Required
LOCATION:Dexter District Library\, 3255 Alpine St\, Dexter\, Michigan\, 481
 30\, Dexter\, United States
GEO:42.340266;-83.88900000000001
X-APPLE-STRUCTURED-LOCATION;VALUE=URI;X-ADDRESS=3255 Alpine St\, Dexter\, M
 ichigan\, 48130\, Dexter\, United States;X-APPLE-RADIUS=100;X-TITLE=Dexter
  District Library:geo:42.340266,-83.88900000000001
END:VEVENT
BEGIN:VTIMEZONE
TZID:America/Detroit
X-LIC-LOCATION:America/Detroit
BEGIN:DAYLIGHT
DTSTART:20260308T030000
TZOFFSETFROM:-0500
TZOFFSETTO:-0400
TZNAME:EDT
END:DAYLIGHT
END:VTIMEZONE
END:VCALENDAR