BEGIN:VCALENDAR
VERSION:2.0
PRODID:-//wp-events-plugin.com//7.2.3.1//EN
TZID:America/Detroit
X-WR-TIMEZONE:America/Detroit
BEGIN:VEVENT
UID:68257@annarborwithkids.com
DTSTART;TZID=America/Detroit:20250111T150000
DTEND;TZID=America/Detroit:20250111T170000
DTSTAMP:20250105T145231Z
URL:https://annarborwithkids.com/events/chess-club-3/
SUMMARY:Intergenerational Chess: Teens & Seniors
DESCRIPTION:\nThe intergenerational chess club fosters a friendly and inclu
 sive environment that encourages players from different generations to con
 nect\, learn\, and grow through the game. All ages and skill levels are we
 lcome!\n
CATEGORIES:Arbor Annie's Highlights,Chess,Elementary,Free,Games,High
 Schoolers,Indoor Activities,Middle Schoolers,Parents
LOCATION:Ypsilanti District Library - Michigan Ave Branch\, 229 West Michig
 an Avenue\, Ypsilanti\, Michigan\, 48197\, Ypsilanti\, United States
GEO:42.240746;-83.61565
X-APPLE-STRUCTURED-LOCATION;VALUE=URI;X-ADDRESS=229 West Michigan Avenue\, 
 Ypsilanti\, Michigan\, 48197\, Ypsilanti\, United States;X-APPLE-RADIUS=10
 0;X-TITLE=Ypsilanti District Library - Michigan Ave Branch:geo:42.240746,-
 83.61565
END:VEVENT
BEGIN:VTIMEZONE
TZID:America/Detroit
X-LIC-LOCATION:America/Detroit
BEGIN:STANDARD
DTSTART:20241103T010000
TZOFFSETFROM:-0400
TZOFFSETTO:-0500
TZNAME:EST
END:STANDARD
END:VTIMEZONE
END:VCALENDAR