BEGIN:VCALENDAR
VERSION:2.0
PRODID:-//wp-events-plugin.com//7.2.3.1//EN
TZID:America/Detroit
X-WR-TIMEZONE:America/Detroit
BEGIN:VEVENT
UID:60472@annarborwithkids.com
DTSTART;TZID=America/Detroit:20251205T170000
DTEND;TZID=America/Detroit:20251205T183000
DTSTAMP:20251022T210744Z
URL:https://annarborwithkids.com/events/chelsea-tree-lighting/
SUMMARY:Chelsea Tree Lighting
DESCRIPTION:\nKick off Chelsea Hometown Holidays with a Tree Lighting on Fr
 iday night at Pierce Park.\n\n\n\nThere will be free hot cocoa &amp\; pizz
 a from Lakehouse Bakery &amp\; Cottage Inn (while supplies last) in the pa
 vilion from 5-6p before the tree lighting ceremony.\n\n\n\nThe Tree Lighti
 ng Ceremony will start at 6p. Santa will be on hand to help out. The tree 
 lighting will be followed by Christmas sing-alongs.\n\n\n\n\n\n\n\n[wpv-vi
 ew name="linked-playground"]\n\n\n\n\n
CATEGORIES:Arbor Annie's
 Highlights,Babies,Christmas,Elementary,Food,Free,High
 Schoolers,Meal,Middle
 Schoolers,Outdoor,Parents,Preschoolers,Santa,Toddler,Tree Lighting
LOCATION:Pierce Park\, 901 S Main St\, Chelsea\, Michigan\, 48118\, Chelsea
 \, United States
X-APPLE-STRUCTURED-LOCATION;VALUE=URI;X-ADDRESS=901 S Main St\, Chelsea\, M
 ichigan\, 48118\, Chelsea\, United States;X-APPLE-RADIUS=100;X-TITLE=Pierc
 e Park:geo:0,0
END:VEVENT
BEGIN:VTIMEZONE
TZID:America/Detroit
X-LIC-LOCATION:America/Detroit
BEGIN:STANDARD
DTSTART:20251102T010000
TZOFFSETFROM:-0400
TZOFFSETTO:-0500
TZNAME:EST
END:STANDARD
END:VTIMEZONE
END:VCALENDAR