BEGIN:VCALENDAR
VERSION:2.0
PRODID:-//wp-events-plugin.com//7.2.3.1//EN
TZID:America/Detroit
X-WR-TIMEZONE:America/Detroit
BEGIN:VEVENT
UID:94019@annarborwithkids.com
DTSTART;TZID=America/Detroit:20260819T100000
DTEND;TZID=America/Detroit:20260819T150000
DTSTAMP:20260424T211643Z
URL:https://annarborwithkids.com/events/chelsea-farmers-market-2-2026-05-0
 6-2026-05-13-2026-05-20-2026-05-27-2026-06-03-2026-06-10-2026-06-17-2026-0
 6-24-2026-07-01-2026-07-08-2026-07-15-2026-07-22-2026-07-29-2026-08-05-202
 6-08-12-2026-08-19/
SUMMARY:Chelsea Farmers Market
DESCRIPTION:\nThe Chelsea Farmers Market's 2026 season runs May-October.  
 The market is 10a-3p on Wednesdays at Chelsea State Bank lot and 8a-1p on 
 Saturdays at Palmer Commons.\n\n\n\n\n\n\n\n\n
CATEGORIES:Elementary,Farmers Market,Food,Free,High Schoolers,Middle
 Schoolers,Music/Concerts,Preschoolers,Toddler
LOCATION:Chelsea State Bank\, 1010 South Main Street\, Chelsea\, Michigan\,
  48118\, Chelsea\, United States
GEO:42.306434;-84.022236
X-APPLE-STRUCTURED-LOCATION;VALUE=URI;X-ADDRESS=1010 South Main Street\, Ch
 elsea\, Michigan\, 48118\, Chelsea\, United States;X-APPLE-RADIUS=100;X-TI
 TLE=Chelsea State Bank:geo:42.306434,-84.022236
END:VEVENT
BEGIN:VTIMEZONE
TZID:America/Detroit
X-LIC-LOCATION:America/Detroit
BEGIN:DAYLIGHT
DTSTART:20260308T030000
TZOFFSETFROM:-0500
TZOFFSETTO:-0400
TZNAME:EDT
END:DAYLIGHT
END:VTIMEZONE
END:VCALENDAR