BEGIN:VCALENDAR
VERSION:2.0
PRODID:-//wp-events-plugin.com//7.2.3.1//EN
TZID:America/Detroit
X-WR-TIMEZONE:America/Detroit
BEGIN:VEVENT
UID:94031@annarborwithkids.com
DTSTART;TZID=America/Detroit:20260509T080000
DTEND;TZID=America/Detroit:20260509T130000
DTSTAMP:20260424T211707Z
URL:https://annarborwithkids.com/events/chelsea-farmers-market-2-2-2026-05
 -02-2026-05-09/
SUMMARY:Chelsea Farmers Market
DESCRIPTION:\nThe Chelsea Farmers Market's 2025 season runs May-October.  
 The market is 10a-3p on Wednesdays at Chelsea State Bank lot and 8a-1p on 
 Saturdays at Palmer Commons.\n\n\n\n\n
CATEGORIES:Elementary,Farmers Market,Food,Free,High Schoolers,Middle
 Schoolers,Music/Concerts,Preschoolers,Toddler
LOCATION:Palmer Commons\, 311 S Main St\, Chelsea\, Michigan\, 48118\, Chel
 sea\, United States
GEO:42.315448;-84.020088
X-APPLE-STRUCTURED-LOCATION;VALUE=URI;X-ADDRESS=311 S Main St\, Chelsea\, M
 ichigan\, 48118\, Chelsea\, United States;X-APPLE-RADIUS=100;X-TITLE=Palme
 r Commons:geo:42.315448,-84.020088
END:VEVENT
BEGIN:VTIMEZONE
TZID:America/Detroit
X-LIC-LOCATION:America/Detroit
BEGIN:DAYLIGHT
DTSTART:20260308T030000
TZOFFSETFROM:-0500
TZOFFSETTO:-0400
TZNAME:EDT
END:DAYLIGHT
END:VTIMEZONE
END:VCALENDAR