BEGIN:VCALENDAR
VERSION:2.0
PRODID:-//wp-events-plugin.com//7.2.3.1//EN
TZID:America/Detroit
X-WR-TIMEZONE:America/Detroit
BEGIN:VEVENT
UID:75465@annarborwithkids.com
DTSTART;TZID=America/Detroit:20251030T183000
DTEND;TZID=America/Detroit:20251030T200000
DTSTAMP:20251001T211326Z
URL:https://annarborwithkids.com/events/chelsea-ata-martial-arts-trunk-or-
 treat/
SUMMARY:Chelsea's Best Trunk or Treat
DESCRIPTION:\nAs part of Chelsea's Hometown Halloween weekend\, join Chelse
 a's Best Trunk or Treat\n\n\n\nThere will be safe trick or treating and a 
 costume contest.\n\n\n\n\n\n\n\n\n\n\n
CATEGORIES:Arbor Annie's Highlights,Elementary,Free,Halloween,Middle
 Schoolers,Outdoor,Parents,Preschoolers,Toddler
LOCATION:Lake Trust Credit Union\, 1170 S. Main St\, Chelsea\, Michigan\, 4
 8118\, United States
GEO:42.305182;-84.02185
X-APPLE-STRUCTURED-LOCATION;VALUE=URI;X-ADDRESS=1170 S. Main St\, Chelsea\,
  Michigan\, 48118\, United States;X-APPLE-RADIUS=100;X-TITLE=Lake Trust Cr
 edit Union:geo:42.305182,-84.02185
END:VEVENT
BEGIN:VTIMEZONE
TZID:America/Detroit
X-LIC-LOCATION:America/Detroit
BEGIN:DAYLIGHT
DTSTART:20250309T030000
TZOFFSETFROM:-0500
TZOFFSETTO:-0400
TZNAME:EDT
END:DAYLIGHT
END:VTIMEZONE
END:VCALENDAR