BEGIN:VCALENDAR
VERSION:2.0
PRODID:-//wp-events-plugin.com//7.2.3.1//EN
TZID:America/Detroit
X-WR-TIMEZONE:America/Detroit
BEGIN:VEVENT
UID:80339@annarborwithkids.com
DTSTART;TZID=America/Detroit:20260430T193000
DTEND;TZID=America/Detroit:20260430T203000
DTSTAMP:20260421T213716Z
URL:https://annarborwithkids.com/events/change-washtenaw-community-concert
 -band/
SUMMARY:Classical Creations - Washtenaw Community Concert Band
DESCRIPTION:\nThis classical music-themed concert celebrates both the histo
 ry and future of this thing we call BAND. \n\n\n\nFrom the refreshing and 
 patriotic sounds of Ryan Nowlin’s Legacy Fanfare to a medley of thirty o
 f the most recognizable orchestral melodies in the world\, there is someth
 ing for everyone! Light refreshments to follow the concert\n\n\n\n\n
CATEGORIES:Arbor Annie's Highlights,Concert,Elementary,Free,High
 Schoolers,Indoor Activities,Middle
 Schoolers,Music/Concerts,Parents,Preschoolers,Toddler
LOCATION:Morris Lawrence Building\, 4800 E. Huron River Dr\, Ann Arbor\, MI
 \, 48105\, East Ann Arbor\, United States
GEO:42.2635278;-83.66550359999997
X-APPLE-STRUCTURED-LOCATION;VALUE=URI;X-ADDRESS=4800 E. Huron River Dr\, An
 n Arbor\, MI\, 48105\, East Ann Arbor\, United States;X-APPLE-RADIUS=100;X
 -TITLE=Morris Lawrence Building:geo:42.2635278,-83.66550359999997
END:VEVENT
BEGIN:VTIMEZONE
TZID:America/Detroit
X-LIC-LOCATION:America/Detroit
BEGIN:DAYLIGHT
DTSTART:20260308T030000
TZOFFSETFROM:-0500
TZOFFSETTO:-0400
TZNAME:EDT
END:DAYLIGHT
END:VTIMEZONE
END:VCALENDAR