BEGIN:VCALENDAR
VERSION:2.0
PRODID:-//wp-events-plugin.com//7.2.3.1//EN
TZID:America/Detroit
X-WR-TIMEZONE:America/Detroit
BEGIN:VEVENT
UID:67284@annarborwithkids.com
DTSTART;TZID=America/Detroit:20260327T191500
DTEND;TZID=America/Detroit:20260327T204500
DTSTAMP:20260312T155427Z
URL:https://annarborwithkids.com/events/cats-and-kids/
SUMMARY:Cats and Kids
DESCRIPTION:\nKids and cats: a purrfect pairing! Cats and Kids is a program
  specifically made for kids ages 6-11 to spend some time with the adoptabl
 e cats and kittens at Tiny Lions Lounge and Adoption Center. Participants 
 will enjoy engaging in arts/crafts\, games and other fun activities all wh
 ile in the company of feline friends. Parents\, this is a drop-off event\,
  but don’t worry\; the program is supervised at all times by TLC staff a
 nd volunteers.\n\n\n\nTickets are limited\, please buy in advance.\n\n\n\n
 \n\n\n\n\n\n\n
CATEGORIES:Advance Registration,Animals,Arbor Annie's
 Highlights,Elementary,Indoor Activities,Parents Night Out,Registration
 Required,Sold Out
LOCATION:Tiny Lions Lounge & Adoption Center\, 5245 Jackson Rd Suite A1\, A
 nn Arbor\, Michigan\, 48103\, West\, United States
GEO:42.2872607;-83.8339216
X-APPLE-STRUCTURED-LOCATION;VALUE=URI;X-ADDRESS=5245 Jackson Rd Suite A1\, 
 Ann Arbor\, Michigan\, 48103\, West\, United States;X-APPLE-RADIUS=100;X-T
 ITLE=Tiny Lions Lounge & Adoption Center:geo:42.2872607,-83.8339216
END:VEVENT
BEGIN:VTIMEZONE
TZID:America/Detroit
X-LIC-LOCATION:America/Detroit
BEGIN:DAYLIGHT
DTSTART:20260308T030000
TZOFFSETFROM:-0500
TZOFFSETTO:-0400
TZNAME:EDT
END:DAYLIGHT
END:VTIMEZONE
END:VCALENDAR