BEGIN:VCALENDAR
VERSION:2.0
PRODID:-//wp-events-plugin.com//7.2.3.1//EN
TZID:America/Detroit
X-WR-TIMEZONE:America/Detroit
BEGIN:VEVENT
UID:29045@annarborwithkids.com
DTSTART;TZID=America/Detroit:20260322T090000
DTEND;TZID=America/Detroit:20260322T103000
DTSTAMP:20260225T203645Z
URL:https://annarborwithkids.com/events/caring-bunny-5/
SUMMARY:Caring Bunny
DESCRIPTION:\nJoin Briarwood Mall for a sensory-sensitive time to meet&nbsp
 \;with the Easter Bunny before the mall opens. \n\n\n\nIn the past this ha
 s included dimmer lights\, no music\, and no lines through advanced reserv
 ations and use of a number system instead of a line.\n\n\n\nReserve your s
 pot through Where is the Bunny\n\n\n\nYour visit is free\, but photographs
  are available for purchase.\n\n\n\n\n\n\n\n\n\n&nbsp\;\n
CATEGORIES:Arbor Annie's Highlights,Easter,Easter
 Bunny,Elementary,Holidays,Indoor Activities,Middle
 Schoolers,Preschoolers,Special Needs,Toddler
LOCATION:Briarwood Mall\, 100 Briarwood Circle\, Ann Arbor\, Michigan\, 481
 08\, Briarwood\, United States
GEO:42.2380708;-83.74711669999999
X-APPLE-STRUCTURED-LOCATION;VALUE=URI;X-ADDRESS=100 Briarwood Circle\, Ann 
 Arbor\, Michigan\, 48108\, Briarwood\, United States;X-APPLE-RADIUS=100;X-
 TITLE=Briarwood Mall:geo:42.2380708,-83.74711669999999
END:VEVENT
BEGIN:VTIMEZONE
TZID:America/Detroit
X-LIC-LOCATION:America/Detroit
BEGIN:DAYLIGHT
DTSTART:20260308T030000
TZOFFSETFROM:-0500
TZOFFSETTO:-0400
TZNAME:EDT
END:DAYLIGHT
END:VTIMEZONE
END:VCALENDAR