BEGIN:VCALENDAR
VERSION:2.0
PRODID:-//wp-events-plugin.com//7.2.3.1//EN
TZID:America/Detroit
X-WR-TIMEZONE:America/Detroit
BEGIN:VEVENT
UID:66834@annarborwithkids.com
DTSTART;TZID=America/Detroit:20260429T170000
DTEND;TZID=America/Detroit:20260429T180000
DTSTAMP:20260323T193518Z
URL:https://annarborwithkids.com/events/button-lab/
SUMMARY:Button Lab
DESCRIPTION:\nCome use AADL's button makers to make cool pinback buttons fo
 r your coat\, bag\, and more! They have two sizes of buttons: 1.25 inch an
 d 2.25 inch. You can bring your own images\, draw your own at the event\, 
 or use provided magazines to find images.\n\n\n\nFor teens-Adults. Held in
  Secret Lab\n\n\n
CATEGORIES:Arbor Annie's Highlights,Crafts,Free,High Schoolers,Indoor
 Activities,Middle Schoolers,Parents
LOCATION:Downtown Branch of AADL\, 343 South Fifth Avenue\, Ann Arbor\, Mic
 higan\, 48104\, Downtown\, United States
GEO:42.278198;-83.745971
X-APPLE-STRUCTURED-LOCATION;VALUE=URI;X-ADDRESS=343 South Fifth Avenue\, An
 n Arbor\, Michigan\, 48104\, Downtown\, United States;X-APPLE-RADIUS=100;X
 -TITLE=Downtown Branch of AADL:geo:42.278198,-83.745971
END:VEVENT
BEGIN:VTIMEZONE
TZID:America/Detroit
X-LIC-LOCATION:America/Detroit
BEGIN:DAYLIGHT
DTSTART:20260308T030000
TZOFFSETFROM:-0500
TZOFFSETTO:-0400
TZNAME:EDT
END:DAYLIGHT
END:VTIMEZONE
END:VCALENDAR