BEGIN:VCALENDAR
VERSION:2.0
PRODID:-//wp-events-plugin.com//7.2.3.1//EN
TZID:America/Detroit
X-WR-TIMEZONE:America/Detroit
BEGIN:VEVENT
UID:89368@annarborwithkids.com
DTSTART;TZID=America/Detroit:20251019T130000
DTEND;TZID=America/Detroit:20251019T180000
DTSTAMP:20250929T155553Z
URL:https://annarborwithkids.com/events/buhr-park-boo-bash/
SUMMARY:Buhr Park Boo Bash
DESCRIPTION:\nGet ready for a frightfully fun (FREE) family day at Buhr Par
 k! Enjoy a silent disco\, food trucks\, artisan vendors\, photo booth\, cr
 aft stations\, inflatables\, spooky trivia and face painting.\n\n\n\nThe C
 obblestone Farm Harvest Festival is happening at the same time (noon-4p). 
 Stop by and visit both events!\n\n\n\nPumpkin Carving Contest\n\n\n\nCarvi
 ng takes place 1–3 p.m. (you can start hollowing at 12:30 p.m.)\, with p
 ublic voting from 3–3:30 p.m. Brackets: youth 12 and under (decorating o
 nly)\, teens 13–18\, and adults 18+. Themes include scariest\, funniest 
 and most creative\, with 1st and 2nd place prizes in each bracket. Partici
 pants bring their own pumpkins and tools (no rotary tools). Youth supplies
  provided.\n\n\n\nPreregister by Oct. 17: https://url.a2gov.org/pumpkincon
 test\n\n\n\n\n\nPie Baking Contest\n\n\n\nJudging begins at 1:30 p.m. Brac
 kets: youth 18 and under\, adult 18–65\, and senior 65+. Pies are judged
  on appearance\, tenderness\, flavor\, creativity and overall impression (
 bring a short description for judges to read).\n\n\n\nDisposable pans requ
 ired.\n\n\n\nPreregister by Oct. 17: https://url.a2gov.org/piecontest\n\n\
 n\nCostume Contest\n\n\n\nRegister onsite the day of the event. Begins at 
 3 p.m. Brackets for youth (18 and under) and adults. Themes include scarie
 st\, funniest\, most creative\, and best group/family.\n\n\n\n\n
CATEGORIES:Advance Registration,Arbor Annie's
 Highlights,Craft/Vendor,Crafts,Elementary,Free,Halloween,High
 Schoolers,Middle Schoolers,Optional
 Registration,Outdoor,Parents,Preschoolers,Shopping,Toddler
LOCATION:Buhr Park\, 2751 Packard Road\, Ann Arbor\, MI\, 48108\, United St
 ates
GEO:42.2480008;-83.7111036
X-APPLE-STRUCTURED-LOCATION;VALUE=URI;X-ADDRESS=2751 Packard Road\, Ann Arb
 or\, MI\, 48108\, United States;X-APPLE-RADIUS=100;X-TITLE=Buhr Park:geo:4
 2.2480008,-83.7111036
END:VEVENT
BEGIN:VTIMEZONE
TZID:America/Detroit
X-LIC-LOCATION:America/Detroit
BEGIN:DAYLIGHT
DTSTART:20250309T030000
TZOFFSETFROM:-0500
TZOFFSETTO:-0400
TZNAME:EDT
END:DAYLIGHT
END:VTIMEZONE
END:VCALENDAR