BEGIN:VCALENDAR
VERSION:2.0
PRODID:-//wp-events-plugin.com//7.2.3.1//EN
TZID:America/Detroit
X-WR-TIMEZONE:America/Detroit
BEGIN:VEVENT
UID:92743@annarborwithkids.com
DTSTART;TZID=America/Detroit:20260328T130000
DTEND;TZID=America/Detroit:20260328T150000
DTSTAMP:20260226T202059Z
URL:https://annarborwithkids.com/events/bring-your-own-book-club/
SUMMARY:Bring Your Own Book Club
DESCRIPTION:\nTo celebrate March is Reading Month\, Schuler Book is holding
  a "Bring Your Own Book Club" event. Bring your current book (or pick one 
 up in store) and join in the reading as you connect with fellow readers (q
 uietly)\n\n\n\n\n
CATEGORIES:Arbor Annie's Highlights,Book Club/Reading
 Event,Elementary,Free,High Schoolers,Indoor Activities,Middle
 Schoolers,Parents
LOCATION:Schuler Books (Nicola's Books)\, 2513 Jackson Ave\, Ann Arbor\, MI
 \, 48103\, United States
GEO:42.278952;-83.782725
X-APPLE-STRUCTURED-LOCATION;VALUE=URI;X-ADDRESS=2513 Jackson Ave\, Ann Arbo
 r\, MI\, 48103\, United States;X-APPLE-RADIUS=100;X-TITLE=Schuler Books (N
 icola's Books):geo:42.278952,-83.782725
END:VEVENT
BEGIN:VTIMEZONE
TZID:America/Detroit
X-LIC-LOCATION:America/Detroit
BEGIN:DAYLIGHT
DTSTART:20260308T030000
TZOFFSETFROM:-0500
TZOFFSETTO:-0400
TZNAME:EDT
END:DAYLIGHT
END:VTIMEZONE
END:VCALENDAR