BEGIN:VCALENDAR
VERSION:2.0
PRODID:-//wp-events-plugin.com//7.2.3.1//EN
TZID:America/Detroit
X-WR-TIMEZONE:America/Detroit
BEGIN:VEVENT
UID:75457@annarborwithkids.com
DTSTART;TZID=America/Detroit:20241026T150000
DTEND;TZID=America/Detroit:20241026T170000
DTSTAMP:20241017T135401Z
URL:https://annarborwithkids.com/events/bridgewater-trunk-r-treat/
SUMMARY:Bridgewater Trunk 'r' Treat
DESCRIPTION:\nSt. John’s Lutheran Church will be hosting Bridgewater’s 
 Annual Trunk ’r’ Treat on Saturday\, October 26\, from 3pm to 5pm.\n\n
 \n\nShare a not-so-spooky community tradition.\n\n\n\n\n\n\n\n\n\n\n
CATEGORIES:Arbor Annie's Highlights,Elementary,Free,Halloween,Middle
 Schoolers,Outdoor,Parents,Preschoolers,Toddler
LOCATION:St John's Lutheran Church\, 8805 Austin Rd\, Bridgewater\, Michiga
 n\, 48176\, United States
GEO:42.159878;-83.897777
X-APPLE-STRUCTURED-LOCATION;VALUE=URI;X-ADDRESS=8805 Austin Rd\, Bridgewate
 r\, Michigan\, 48176\, United States;X-APPLE-RADIUS=100;X-TITLE=St John's 
 Lutheran Church:geo:42.159878,-83.897777
END:VEVENT
BEGIN:VTIMEZONE
TZID:America/Detroit
X-LIC-LOCATION:America/Detroit
BEGIN:DAYLIGHT
DTSTART:20240310T030000
TZOFFSETFROM:-0500
TZOFFSETTO:-0400
TZNAME:EDT
END:DAYLIGHT
END:VTIMEZONE
END:VCALENDAR