BEGIN:VCALENDAR
VERSION:2.0
PRODID:-//wp-events-plugin.com//7.2.3.1//EN
TZID:America/Detroit
X-WR-TIMEZONE:America/Detroit
BEGIN:VEVENT
UID:47930@annarborwithkids.com
DTSTART;TZID=America/Detroit:20260301T110000
DTEND;TZID=America/Detroit:20260301T170000
DTSTAMP:20260109T173116Z
URL:https://annarborwithkids.com/events/brick-bash-2/
SUMMARY:Brick Bash
DESCRIPTION:\nBrick Bash is a LEGO expo featuring interesting displays\, bu
 ilding areas\, and vendors. Brick Bash is a fundraiser for the Skyline Hig
 h School Band. \n\n\n\nBrick Bash 2026 will be February 28 &amp\; March 1.
  Admission will be $8/person. Tickets will be available at the door. In th
 e past they've used GoFan\, but as of January 9 say they don't have online
  sales setup yet. \n\n\n\nTim &amp\; Zach from season 2 of Lego Masters wi
 ll be there in 2026 with their store Alpine Brick Exchange and ahands-on a
 ctivity next to it.\n\n\n\nRead about our past experiences at Brick Bash\n
 \n\n\n\n\n\n\n\n\n\n
CATEGORIES:Arbor Annie's Highlights,Charitable Event,Elementary,High
 Schoolers,Indoor Activities,LEGO,Middle
 Schoolers,Other,Parents,Preschoolers,School Fundraiser
LOCATION:Skyline High School\, 2552 N. Maple\, Ann Arbor\, Michigan\, 48103
 \, West Ann Arbor\, United States
GEO:42.30482;-83.77894320000001
X-APPLE-STRUCTURED-LOCATION;VALUE=URI;X-ADDRESS=2552 N. Maple\, Ann Arbor\,
  Michigan\, 48103\, West Ann Arbor\, United States;X-APPLE-RADIUS=100;X-TI
 TLE=Skyline High School:geo:42.30482,-83.77894320000001
END:VEVENT
BEGIN:VTIMEZONE
TZID:America/Detroit
X-LIC-LOCATION:America/Detroit
BEGIN:STANDARD
DTSTART:20251102T010000
TZOFFSETFROM:-0400
TZOFFSETTO:-0500
TZNAME:EST
END:STANDARD
END:VTIMEZONE
END:VCALENDAR