BEGIN:VCALENDAR
VERSION:2.0
PRODID:-//wp-events-plugin.com//7.2.3.1//EN
TZID:America/Detroit
X-WR-TIMEZONE:America/Detroit
BEGIN:VEVENT
UID:87606@annarborwithkids.com
DTSTART;TZID=America/Detroit:20250619T160000
DTEND;TZID=America/Detroit:20250619T210000
DTSTAMP:20250607T160739Z
URL:https://annarborwithkids.com/events/briarwood-summer-carnival-2025-06-
 19/
SUMMARY:Briarwood Summer Carnival
DESCRIPTION:\nBig Rock Amusements brings their rides to Briarwood Mall for 
 the Briarwood Summer Carnival over 2 weekends in June.\n\n\n\nThis is the 
 first year holding the Briarwood Summer Carnival. \n\n\n\nBriarwood Summer
  Carnival Schedule\n\n\n\n[events_list tag="briarwood summer carnival" sco
 pe=":2925"2025-06-01\,2025-06-30"]🎠 #_{l F j } #_EVENTTIMES #_EVENTLINK
  at Briarwood Mall[/events_list]\n\n\n
CATEGORIES:Advance Registration,Arbor Annie's Highlights,Carnival
 Rides,Community Fair,Elementary,High Schoolers,Middle Schoolers,Optional
 Registration,Outdoor,Parents,Preschoolers,Toddler
LOCATION:Briarwood Mall\, 100 Briarwood Circle\, Ann Arbor\, Michigan\, 481
 08\, Briarwood\, United States
GEO:42.2380708;-83.74711669999999
X-APPLE-STRUCTURED-LOCATION;VALUE=URI;X-ADDRESS=100 Briarwood Circle\, Ann 
 Arbor\, Michigan\, 48108\, Briarwood\, United States;X-APPLE-RADIUS=100;X-
 TITLE=Briarwood Mall:geo:42.2380708,-83.74711669999999
END:VEVENT
BEGIN:VTIMEZONE
TZID:America/Detroit
X-LIC-LOCATION:America/Detroit
BEGIN:DAYLIGHT
DTSTART:20250309T030000
TZOFFSETFROM:-0500
TZOFFSETTO:-0400
TZNAME:EDT
END:DAYLIGHT
END:VTIMEZONE
END:VCALENDAR