BEGIN:VCALENDAR
VERSION:2.0
PRODID:-//wp-events-plugin.com//7.2.3.1//EN
TZID:America/Detroit
X-WR-TIMEZONE:America/Detroit
BEGIN:VEVENT
UID:30392@annarborwithkids.com
DTSTART;TZID=America/Detroit:20230423T081500
DTEND;TZID=America/Detroit:20230423T110000
DTSTAMP:20230318T221750Z
URL:https://annarborwithkids.com/events/bookstock-pre-sale/
SUMMARY:Bookstock Pre-Sale
DESCRIPTION:\nBookstock is Metro Detroit's largest non-profit used book and
  media sale.\n\n\n\nVisit the pre-sale Sunday morning before the sale open
 s to get the best selection of materials.\n\n\n\nAdmission to the pre-sale
  is $20/person.\n\n\n\n\n\n[wpv-view name="posts-associated-to-event"]\n\n
 \n\nBookstock Dates:\n\n\n\n[events_list tag="bookstock" scope="2023-04-01
 \,2023-04-30"]📚 #_{l\, F j\, Y} #_EVENTTIMES - #_EVENTLINK\n[/events_li
 st]\n
ATTACH;FMTTYPE=image/jpeg:https://annarborwithkids.com/wp-content/uploads/
 2017/04/bookstock-2019.jpg
CATEGORIES:Arbor Annie's Highlights,Charitable Event,Display
 Image,Elementary,High Schoolers,Indoor Activities,Middle
 Schoolers,Parents,Preschoolers,Shopping,Toddler
LOCATION:Laurel Park Place\, 37700 6 Mile Rd\, Livonia\, Michigan\, 48152\,
  Livonia\, United States
GEO:42.4140126;-83.41659820000001
X-APPLE-STRUCTURED-LOCATION;VALUE=URI;X-ADDRESS=37700 6 Mile Rd\, Livonia\,
  Michigan\, 48152\, Livonia\, United States;X-APPLE-RADIUS=100;X-TITLE=Lau
 rel Park Place:geo:42.4140126,-83.41659820000001
END:VEVENT
BEGIN:VTIMEZONE
TZID:America/Detroit
X-LIC-LOCATION:America/Detroit
BEGIN:DAYLIGHT
DTSTART:20230312T030000
TZOFFSETFROM:-0500
TZOFFSETTO:-0400
TZNAME:EDT
END:DAYLIGHT
END:VTIMEZONE
END:VCALENDAR