BEGIN:VCALENDAR
VERSION:2.0
PRODID:-//wp-events-plugin.com//7.2.3.1//EN
TZID:America/Detroit
X-WR-TIMEZONE:America/Detroit
BEGIN:VEVENT
UID:49044@annarborwithkids.com
DTSTART;TZID=America/Detroit:20190706T090000
DTEND;TZID=America/Detroit:20190706T160000
DTSTAMP:20200729T031500Z
URL:https://annarborwithkids.com/events/booksilanti-readers-fair/
SUMMARY:Booksilanti Readers Fair
DESCRIPTION:Head to the Ypsilanti Freighthouse for the first ever Booksilan
 ti Readers Fair. There will be local authors\, crafts\, book-ish artisans\
 , kids story time\, and more. Check back for details.
CATEGORIES:Arbor Annie's Highlights,Crafts,Elementary,Free,High
 Schoolers,Indoor Activities,Middle
 Schoolers,Parents,Preschoolers,Storytime,Toddler
LOCATION:Ypsilanti Freighthouse\, 100 Market Place\, Ypsilanti\, Michigan\,
  48198\, Ypsilanti\, United States
GEO:42.2467999;-83.61014590000002
X-APPLE-STRUCTURED-LOCATION;VALUE=URI;X-ADDRESS=100 Market Place\, Ypsilant
 i\, Michigan\, 48198\, Ypsilanti\, United States;X-APPLE-RADIUS=100;X-TITL
 E=Ypsilanti Freighthouse:geo:42.2467999,-83.61014590000002
END:VEVENT
BEGIN:VTIMEZONE
TZID:America/Detroit
X-LIC-LOCATION:America/Detroit
BEGIN:DAYLIGHT
DTSTART:20190310T030000
TZOFFSETFROM:-0500
TZOFFSETTO:-0400
TZNAME:EDT
END:DAYLIGHT
END:VTIMEZONE
END:VCALENDAR