BEGIN:VCALENDAR
VERSION:2.0
PRODID:-//wp-events-plugin.com//7.2.3.1//EN
TZID:America/Detroit
X-WR-TIMEZONE:America/Detroit
BEGIN:VEVENT
UID:21675@annarborwithkids.com
DTSTART;TZID=America/Detroit:20251030T170000
DTEND;TZID=America/Detroit:20251030T200000
DTSTAMP:20250905T201247Z
URL:https://annarborwithkids.com/events/boo-bash-6/
SUMMARY:Boo Bash
DESCRIPTION:\nCelebrate Halloween at Briarwood Mall's Boo Bash.\n\n\n\nNote
 : As of September 5\, only the date is announced. We will watch for 2025 u
 pdates. In the meantime\,\, 2024 details are below.\n\n\n\nActivities from
  5-6:30p:\n\n\n\n\nTrick-or-treat with participating retailers throughout 
 the mall \n\n\n\n\nActivities from 5:30-8PM: \n\n\n\n\nCraft Stations \n\n
 \n\nPhoto booths\n\n\n\nEntertainment with the astounding world-renowned m
 agician\, Anthony Grupido\, who's opened for The Impractical Jokers\, Jim 
 Gaffigan\, and The Chainsmokers\, ready to mystify you with his magic show
 s at 5:30pm and 7pm\, the fun is non-stop!\n\n\n\n\n\n\n\n\n\n\nCostumes a
 re encouraged. \n\n\n\n\n\n\n\n\n\n.\n
CATEGORIES:Arbor Annie's
 Highlights,Babies,Elementary,Free,Halloween,Indoor
 Activities,Preschoolers,Toddler,Trick or Treat
LOCATION:Briarwood Mall\, 100 Briarwood Circle\, Ann Arbor\, Michigan\, 481
 08\, Briarwood\, United States
GEO:42.2380708;-83.74711669999999
X-APPLE-STRUCTURED-LOCATION;VALUE=URI;X-ADDRESS=100 Briarwood Circle\, Ann 
 Arbor\, Michigan\, 48108\, Briarwood\, United States;X-APPLE-RADIUS=100;X-
 TITLE=Briarwood Mall:geo:42.2380708,-83.74711669999999
END:VEVENT
BEGIN:VTIMEZONE
TZID:America/Detroit
X-LIC-LOCATION:America/Detroit
BEGIN:DAYLIGHT
DTSTART:20250309T030000
TZOFFSETFROM:-0500
TZOFFSETTO:-0400
TZNAME:EDT
END:DAYLIGHT
END:VTIMEZONE
END:VCALENDAR