BEGIN:VCALENDAR
VERSION:2.0
PRODID:-//wp-events-plugin.com//7.2.3.1//EN
TZID:America/Detroit
X-WR-TIMEZONE:America/Detroit
BEGIN:VEVENT
UID:21676@annarborwithkids.com
DTSTART;TZID=America/Detroit:20251025T180000
DTEND;TZID=America/Detroit:20251025T203000
DTSTAMP:20250905T201010Z
URL:https://annarborwithkids.com/events/boo-bash-5/
SUMMARY:Boo Bash
DESCRIPTION:\nJoin Saline Rec Center for Boo Bash and a pumpkin hunt. \n\n\
 n\nGet ready for a graveyard smash and a perfect night of Halloween Fun! C
 ostumes are encouraged for everyone in the family. You'll enjoy a DJ\, dan
 cing\, games\, crafts and candy.\n\n\n\nRegister for a pumpkin hunt on Mil
 ler Field or a scary pumpkin hunt in the woods. The scary pumpkin hunt wil
 l include scare actors jumping out at you. \n\n\n\nThere will also be a tr
 ick or treat trail with local businesses handing out treats.\n\n\n\nPre-re
 gistration&nbsp\;is required as the event typically sells out.\n\n\n\n\n\n
 \n
CATEGORIES:Age Range,Arbor Annie's
 Highlights,Babies,Dance,Elementary,Halloween,Indoor Activities,Middle
 Schoolers,Parents,Preschoolers,Toddler,Trick or Treat
LOCATION:Saline Rec Center\, 1866 Woodland Dr\, Saline\, MI\, 48176\, Salin
 e\, United States
GEO:42.195868;-83.76643200000001
X-APPLE-STRUCTURED-LOCATION;VALUE=URI;X-ADDRESS=1866 Woodland Dr\, Saline\,
  MI\, 48176\, Saline\, United States;X-APPLE-RADIUS=100;X-TITLE=Saline Rec
  Center:geo:42.195868,-83.76643200000001
END:VEVENT
BEGIN:VTIMEZONE
TZID:America/Detroit
X-LIC-LOCATION:America/Detroit
BEGIN:DAYLIGHT
DTSTART:20250309T030000
TZOFFSETFROM:-0500
TZOFFSETTO:-0400
TZNAME:EDT
END:DAYLIGHT
END:VTIMEZONE
END:VCALENDAR