BEGIN:VCALENDAR
VERSION:2.0
PRODID:-//wp-events-plugin.com//7.2.3.1//EN
TZID:America/Detroit
X-WR-TIMEZONE:America/Detroit
BEGIN:VEVENT
UID:89119@annarborwithkids.com
DTSTART;TZID=America/Detroit:20261107T100000
DTEND;TZID=America/Detroit:20261107T150000
DTSTAMP:20260326T172120Z
URL:https://annarborwithkids.com/events/bonfyre-trail-fest/
SUMMARY:Bonfyre Trail Fest
DESCRIPTION:\nRunning Fit is hosting the Bonfyre Trail Fest trail race on t
 he DTE Energy Foundation Trail at Waterloo State Recreation Area.\n\n\n\nT
 here are 5 trail run options - 5 miles\, 10 miles\, and 18 miles. The 5 an
 d 10 mile are hiker friendly. There is a 5 hour limit (3p).\n\n\n\nAfter t
 he race there will be a beer garden and band (11:15a-2:45p)\n\n\n\nWhen we
  added the event in March 2026\, this year's registration details weren't 
 available. The 2025 race costs were:\n\n\n\n\n5 Mile - $55\n\n\n\n10 Mile 
 - $65\n\n\n\n18 Mile - $75\n\n\n\n\n\n
CATEGORIES:Advance Registration,Arbor Annie's Highlights,High
 Schoolers,Hikes/Walks,Middle Schoolers,Outdoor,Parents,Race,Registration
 Required
LOCATION:DTE Energy Foundation Trail\, 17819 Stockbridge Chelsea Rd\, Chels
 ea\, Michigan\, 48118\, United States
GEO:42.368782;-84.069061
X-APPLE-STRUCTURED-LOCATION;VALUE=URI;X-ADDRESS=17819 Stockbridge Chelsea R
 d\, Chelsea\, Michigan\, 48118\, United States;X-APPLE-RADIUS=100;X-TITLE=
 DTE Energy Foundation Trail:geo:42.368782,-84.069061
END:VEVENT
BEGIN:VTIMEZONE
TZID:America/Detroit
X-LIC-LOCATION:America/Detroit
BEGIN:STANDARD
DTSTART:20261101T010000
TZOFFSETFROM:-0400
TZOFFSETTO:-0500
TZNAME:EST
END:STANDARD
END:VTIMEZONE
END:VCALENDAR