BEGIN:VCALENDAR
VERSION:2.0
PRODID:-//wp-events-plugin.com//7.2.3.1//EN
TZID:America/Detroit
X-WR-TIMEZONE:America/Detroit
BEGIN:VEVENT
UID:71867@annarborwithkids.com
DTSTART;TZID=America/Detroit:20230617T140000
DTEND;TZID=America/Detroit:20230617T150000
DTSTAMP:20230609T032141Z
URL:https://annarborwithkids.com/events/bon-odori-dance-festival-with-the-
 sakura-japanese-instrumental-group/
SUMMARY:Japan Week Concert: Miyabi Koto Shamisen Ensemble
DESCRIPTION:\nJoin&nbsp\;Masayo Ishigure&nbsp\;and the&nbsp\;Miyabi Koto Sh
 amisen Ensemble&nbsp\;for a live performance of classical and contemporary
  Japanese koto and shamisen music. Miyabi Koto Shamisen Ensemble is a New 
 York–based group that was founded by Masayo Ishigure in 1996\, and consi
 sts of members of the Sawai Koto Academy\, one of the most prominent schoo
 ls for contemporary Koto and Shamisen music.\n\n\n\nEvent will be held in 
 the 1st floor lobby. For grades K-Adult\n\n\n\n\n\nJapan Week Activities\n
 \n\n\n[events_list tag="Japan Week" scope="2023-06-01\,2023-06-30"][/event
 s_list]\n\n\n\n\n
CATEGORIES:Arbor Annie's Highlights,Cultural
 Celebration,Elementary,Free,High Schoolers,Indoor Activities,Middle
 Schoolers,Music/Concerts,Parents
LOCATION:Downtown Branch of AADL\, 343 South Fifth Avenue\, Ann Arbor\, Mic
 higan\, 48104\, Downtown\, United States
GEO:42.278198;-83.745971
X-APPLE-STRUCTURED-LOCATION;VALUE=URI;X-ADDRESS=343 South Fifth Avenue\, An
 n Arbor\, Michigan\, 48104\, Downtown\, United States;X-APPLE-RADIUS=100;X
 -TITLE=Downtown Branch of AADL:geo:42.278198,-83.745971
END:VEVENT
BEGIN:VTIMEZONE
TZID:America/Detroit
X-LIC-LOCATION:America/Detroit
BEGIN:DAYLIGHT
DTSTART:20230312T030000
TZOFFSETFROM:-0500
TZOFFSETTO:-0400
TZNAME:EDT
END:DAYLIGHT
END:VTIMEZONE
END:VCALENDAR