BEGIN:VCALENDAR
VERSION:2.0
PRODID:-//wp-events-plugin.com//7.2.3.1//EN
TZID:America/Detroit
X-WR-TIMEZONE:America/Detroit
BEGIN:VEVENT
UID:53601@annarborwithkids.com
DTSTART;TZID=America/Detroit:20191126T193000
DTEND;TZID=America/Detroit:20191126T220000
DTSTAMP:20200729T032703Z
URL:https://annarborwithkids.com/events/board-game-night-2019-11-26/
SUMMARY:Board Game Night
DESCRIPTION:Join Cultivate Coffee &amp\; Tap House for Board Game Night on 
 Tuesdays. Organizer Matt brings new games each week.
CATEGORIES:Elementary,Food,Games,High Schoolers,Indoor Activities,Middle
 Schoolers,Parents
LOCATION:Cultivate Coffee & TapHouse\, 307 N. River St\, Ypsilanti\, Michig
 an\, 48198\, Ypsilanti\, United States
GEO:42.24489699999999;-83.60928000000001
X-APPLE-STRUCTURED-LOCATION;VALUE=URI;X-ADDRESS=307 N. River St\, Ypsilanti
 \, Michigan\, 48198\, Ypsilanti\, United States;X-APPLE-RADIUS=100;X-TITLE
 =Cultivate Coffee & TapHouse:geo:42.24489699999999,-83.60928000000001
END:VEVENT
BEGIN:VTIMEZONE
TZID:America/Detroit
X-LIC-LOCATION:America/Detroit
BEGIN:STANDARD
DTSTART:20191103T010000
TZOFFSETFROM:-0400
TZOFFSETTO:-0500
TZNAME:EST
END:STANDARD
END:VTIMEZONE
END:VCALENDAR