BEGIN:VCALENDAR
VERSION:2.0
PRODID:-//wp-events-plugin.com//7.2.3.1//EN
TZID:America/Detroit
X-WR-TIMEZONE:America/Detroit
BEGIN:VEVENT
UID:92853@annarborwithkids.com
DTSTART;TZID=America/Detroit:20260514T183000
DTEND;TZID=America/Detroit:20260514T203000
DTSTAMP:20260306T002515Z
URL:https://annarborwithkids.com/events/board-game-meet-up-2026-03-12-2026
 -04-09-2026-05-14/
SUMMARY:Board Game Meet Up
DESCRIPTION:\nTeens &amp\; adults are invited to join Ypsilanti District Li
 brary the second Thursday of each month for a board game meet up at the Wh
 ittaker Branch!\n\n\n\nThe library will provide a rotating selection of mo
 stly lighter complexity board games\, but you can bring your own to play\,
  share\, or teach. Come with your existing group\, or meet other gamers an
 d find a new one.&nbsp\; At the beginning of each session\, a staff member
  will be on hand to teach and play a highlighted game for anyone intereste
 d\n\n\n\nSpace is limited. \n
CATEGORIES:Arbor Annie's Highlights,Free,Games,High Schoolers,Indoor
 Activities,Parents
LOCATION:Ypsilanti District Library - Whittaker Rd\, 5577 Whittaker Rd\, Yp
 silanti\, Michigan\, 48197\, Ypsilanti\, United States
GEO:42.208097;-83.61557
X-APPLE-STRUCTURED-LOCATION;VALUE=URI;X-ADDRESS=5577 Whittaker Rd\, Ypsilan
 ti\, Michigan\, 48197\, Ypsilanti\, United States;X-APPLE-RADIUS=100;X-TIT
 LE=Ypsilanti District Library - Whittaker Rd:geo:42.208097,-83.61557
END:VEVENT
BEGIN:VTIMEZONE
TZID:America/Detroit
X-LIC-LOCATION:America/Detroit
BEGIN:DAYLIGHT
DTSTART:20260308T030000
TZOFFSETFROM:-0500
TZOFFSETTO:-0400
TZNAME:EDT
END:DAYLIGHT
END:VTIMEZONE
END:VCALENDAR