BEGIN:VCALENDAR
VERSION:2.0
PRODID:-//wp-events-plugin.com//7.2.3.1//EN
TZID:America/Detroit
X-WR-TIMEZONE:America/Detroit
BEGIN:VEVENT
UID:56144@annarborwithkids.com
DTSTART;TZID=America/Detroit:20260314T110000
DTEND;TZID=America/Detroit:20260314T130000
DTSTAMP:20260303T142901Z
URL:https://annarborwithkids.com/events/black-writers-matter-5/
SUMMARY:Young Black Writers Showcase
DESCRIPTION:\nJoin the Young Black Writers Showcase for a forum with 3 auth
 ors of varying styles - poetry\, fiction\, and youth picture books. \n\n\n
 \nEach author will take 20-25 minutes to read from their recent works\, ta
 lk about other life activities and community work\, and explain how they e
 mbed writing practices into daily lives. \n\n\n\nIt will conclude with a g
 roup conversation and Q&amp\;A.\n\n\n\nAuthors are:\n\n\n\n\nDarius Simpso
 n - Poetry\n\n\n\nJenna Dawson - Youth \n\n\n\nKayla Chenault - Fiction\n\
 n\n\n\nThe event is hosted by Toni Lea Isom\, a Youth Services Librarian A
 ssistant for Adrian District Library.\n\n\n\nThe event will be a hybrid he
 ld inside the library and via livestream.\n\n\n\n\n\n\n\n\n\n\n\n\n\n\n[tb
 -dynamic provider='__current_post' post='current' source='post-title-with-
 link' force-string='first' ]\n\n\n\n[tb-dynamic provider='__current_post' 
 post='current' source='post-excerpt' length='55' maxLength='55' countBy='w
 ord' renderEllipsis='true' ellipsisText='...' originalContent='' force-str
 ing='first' ]\n\n\n\n\n\n
CATEGORIES:Arbor Annie's Highlights,Author Event,BIPOC,Classes,Free,High
 Schoolers,Indoor Activities,Middle Schoolers,Parents
LOCATION:Main Street Pinckney\, Main Street\, PInckney\, Michigan\, 48169\,
  Pinckney\, United States
GEO:42.4569689;-83.94032010000001
X-APPLE-STRUCTURED-LOCATION;VALUE=URI;X-ADDRESS=Main Street\, PInckney\, Mi
 chigan\, 48169\, Pinckney\, United States;X-APPLE-RADIUS=100;X-TITLE=Main 
 Street Pinckney:geo:42.4569689,-83.94032010000001
END:VEVENT
BEGIN:VTIMEZONE
TZID:America/Detroit
X-LIC-LOCATION:America/Detroit
BEGIN:DAYLIGHT
DTSTART:20260308T030000
TZOFFSETFROM:-0500
TZOFFSETTO:-0400
TZNAME:EDT
END:DAYLIGHT
END:VTIMEZONE
END:VCALENDAR