BEGIN:VCALENDAR
VERSION:2.0
PRODID:-//wp-events-plugin.com//7.2.3.1//EN
TZID:America/Detroit
X-WR-TIMEZONE:America/Detroit
BEGIN:VEVENT
UID:79644@annarborwithkids.com
DTSTART;TZID=America/Detroit:20260430T183000
DTEND;TZID=America/Detroit:20260430T200000
DTSTAMP:20260323T210517Z
URL:https://annarborwithkids.com/events/birthing-basics-2/
SUMMARY:Childbirth Basics with Wrapped in Love
DESCRIPTION:\nJoin Wrapped in Love Doula &amp\; Lactation Support to guide 
 you through what to expect as you welcome your new baby. \n
CATEGORIES:Arbor Annie's Highlights,Expecting Parents,Free,Indoor
 Activities
LOCATION:Ypsilanti District Library - Superior\, 1900 Harris Rd\, Ypsilanti
 \, Michigan\, 48198\, Ypsilanti\, United States
GEO:42.270591;-83.584503
X-APPLE-STRUCTURED-LOCATION;VALUE=URI;X-ADDRESS=1900 Harris Rd\, Ypsilanti\
 , Michigan\, 48198\, Ypsilanti\, United States;X-APPLE-RADIUS=100;X-TITLE=
 Ypsilanti District Library - Superior:geo:42.270591,-83.584503
END:VEVENT
BEGIN:VTIMEZONE
TZID:America/Detroit
X-LIC-LOCATION:America/Detroit
BEGIN:DAYLIGHT
DTSTART:20260308T030000
TZOFFSETFROM:-0500
TZOFFSETTO:-0400
TZNAME:EDT
END:DAYLIGHT
END:VTIMEZONE
END:VCALENDAR