BEGIN:VCALENDAR
VERSION:2.0
PRODID:-//wp-events-plugin.com//7.2.3.1//EN
TZID:America/Detroit
X-WR-TIMEZONE:America/Detroit
BEGIN:VEVENT
UID:93060@annarborwithkids.com
DTSTART;TZID=America/Detroit:20260912T100000
DTEND;TZID=America/Detroit:20260912T120000
DTSTAMP:20260312T182836Z
URL:https://annarborwithkids.com/events/birds-in-your-binoculars-2026-09-1
 2/
SUMMARY:Birds in Your Binoculars
DESCRIPTION:\nBirds are everywhere! Join Lake Erie Metropark to head into t
 he park looking for feathered friends. They may do some hiking or a car ca
 ravan through the park. Be prepared for either or both! Please bring binoc
 ulars or you can use a pair of theirs.\n\n\n\nWhat to expect:This program 
 is entirely outdoors. The time\, approximately\, 120 minutes\, will be spe
 nt on a leisurely walk in the park\, with frequent stops. It will conclude
  at the Lake Erie Marshlands Museum. Walking surfaces may be a combination
  of dirt/gravel\, boardwalk or asphalt walking path. It is mostly flat and
  level. Specific locations will be determined the day of the program.\n\n\
 n\nRegister by 4p the day before the program.\n\n\n\n\n\nBirds in your Bin
 oculars is offered at 10a the second Saturday of the month.\n\n\n\n[events
 _list tag="bird binocular"]🐦 #_{F j} #_EVENTTIMES #_EVENTLINK[/events_l
 ist]\n\n\n
CATEGORIES:Advance Registration,Animals,Arbor Annie's
 Highlights,Elementary,High Schoolers,Middle
 Schoolers,Outdoor,Parents,Registration Required
LOCATION:Lake Erie Metropark\, 32481 West Jefferson Avenue\, Brownstown\, M
 ichigan\, 48173\, United States
GEO:42.070504;-83.210829
X-APPLE-STRUCTURED-LOCATION;VALUE=URI;X-ADDRESS=32481 West Jefferson Avenue
 \, Brownstown\, Michigan\, 48173\, United States;X-APPLE-RADIUS=100;X-TITL
 E=Lake Erie Metropark:geo:42.070504,-83.210829
END:VEVENT
BEGIN:VTIMEZONE
TZID:America/Detroit
X-LIC-LOCATION:America/Detroit
BEGIN:DAYLIGHT
DTSTART:20260308T030000
TZOFFSETFROM:-0500
TZOFFSETTO:-0400
TZNAME:EDT
END:DAYLIGHT
END:VTIMEZONE
END:VCALENDAR