BEGIN:VCALENDAR
VERSION:2.0
PRODID:-//wp-events-plugin.com//7.2.3.1//EN
TZID:America/Detroit
X-WR-TIMEZONE:America/Detroit
BEGIN:VEVENT
UID:85633@annarborwithkids.com
DTSTART;TZID=America/Detroit:20260607T140000
DTEND;TZID=America/Detroit:20260607T153000
DTSTAMP:20260409T183935Z
URL:https://annarborwithkids.com/events/birds-and-flora-of-waterloo/
SUMMARY:Beginning Birding
DESCRIPTION:\n Join Michigan Master Naturalist &amp\; Haehnle Sanctuary Ch
 airman Steve Jerant for an introductory-level birdwatching event. First-ti
 me and young birders are encouraged to attend. They will review binocular 
 basics and learn some simple ways to see &amp\; hear birds.\n\n\n\nBring b
 inoculars if you have them. Don’t have binoculars? No problem! Jackson A
 udubon is providing several pairs of binoculars to loan for the walk. \n\n
 \n\nCost: $2/person or $5/family. Eddy Discovery Center\, 17030 Bush Rd. i
 n the Waterloo Recreation Area near Chelsea. Program limited to 15 partici
 pants \n\n\n\nPlease register for this program by emailing waterloonha@gma
 il.com with your name\, phone number and number of people attending.\n\n\n
 \n\n
CATEGORIES:Advance Registration,Animals,Arbor Annie's Highlights,High
 Schoolers,Hikes/Walks,Middle Schoolers,Nature,Outdoor,Parents,Registration
 Required,Spring Fun
LOCATION:Eddy Discovery Center\, 17030 Bush Rd\, Chelsea\, Michigan\, 48118
 \, Chelsea\, United States
GEO:42.3298572;-84.08067299999999
X-APPLE-STRUCTURED-LOCATION;VALUE=URI;X-ADDRESS=17030 Bush Rd\, Chelsea\, M
 ichigan\, 48118\, Chelsea\, United States;X-APPLE-RADIUS=100;X-TITLE=Eddy 
 Discovery Center:geo:42.3298572,-84.08067299999999
END:VEVENT
BEGIN:VTIMEZONE
TZID:America/Detroit
X-LIC-LOCATION:America/Detroit
BEGIN:DAYLIGHT
DTSTART:20260308T030000
TZOFFSETFROM:-0500
TZOFFSETTO:-0400
TZNAME:EDT
END:DAYLIGHT
END:VTIMEZONE
END:VCALENDAR