BEGIN:VCALENDAR
VERSION:2.0
PRODID:-//wp-events-plugin.com//7.2.3.1//EN
TZID:America/Detroit
X-WR-TIMEZONE:America/Detroit
BEGIN:VEVENT
UID:71747@annarborwithkids.com
DTSTART;TZID=America/Detroit:20250628T200000
DTEND;TZID=America/Detroit:20250628T221500
DTSTAMP:20250626T204400Z
URL:https://annarborwithkids.com/events/belleville-lakefest-fireworks/
SUMMARY:Van Buren Township Fireworks
DESCRIPTION:\nFireworks are on Beck Ball Fields. Before the fireworks there
  will be music\, food and a kids activity tent. Bring your lawn chairs and
  blankets. \n\n\n\nKids Tent and DJ start at 8p. Fireworks start at 9:45p.
  \n\n\n\nNo pets or alcohol allowed.\n\n\n\nRain date is June 29\n\n\n\n\n
CATEGORIES:Arbor Annie's Highlights,Elementary,Fireworks,High
 Schoolers,Middle Schoolers,Outdoor,Parents,Preschoolers
LOCATION:Beck Ball Fields\, 10854 Beck Road\, Van Buren Charter Twp\, Michi
 gan\, 48111\, United States
GEO:42.227711;-83.503922
X-APPLE-STRUCTURED-LOCATION;VALUE=URI;X-ADDRESS=10854 Beck Road\, Van Buren
  Charter Twp\, Michigan\, 48111\, United States;X-APPLE-RADIUS=100;X-TITLE
 =Beck Ball Fields:geo:42.227711,-83.503922
END:VEVENT
BEGIN:VTIMEZONE
TZID:America/Detroit
X-LIC-LOCATION:America/Detroit
BEGIN:DAYLIGHT
DTSTART:20250309T030000
TZOFFSETFROM:-0500
TZOFFSETTO:-0400
TZNAME:EDT
END:DAYLIGHT
END:VTIMEZONE
END:VCALENDAR