BEGIN:VCALENDAR
VERSION:2.0
PRODID:-//wp-events-plugin.com//7.2.3.1//EN
TZID:America/Detroit
X-WR-TIMEZONE:America/Detroit
BEGIN:VEVENT
UID:86659@annarborwithkids.com
DTSTART;TZID=America/Detroit:20260624T214500
DTEND;TZID=America/Detroit:20260624T233000
DTSTAMP:20260325T201747Z
URL:https://annarborwithkids.com/events/beetlejuice-beetlejuice-top-of-the
 -park-movie/
SUMMARY:Planes\, Trains\, and Automobiles - Top of the Park Movie
DESCRIPTION:\nTonight's Movies by Moonlight at Top of the Park is Planes\, 
 Trains\, and Automobiles.\n\n\n\nPlanes\, Trains\, and Automobiles is rate
 d R. While we don't typically include adult events or R-Rated movies in ou
 r lists\, We have included the movie for completeness of Top of the Park. 
 movie is 1hr 44 minutes.\n\n\n\n\n\n\n
CATEGORIES:Free,High Schoolers,Movies,Parents
LOCATION:Top of the Park\, 915 E. Washington St\, Ann Arbor\, Michigan\, 48
 109\, University of Michigan\, United States
GEO:42.2807892;-83.73815560000003
X-APPLE-STRUCTURED-LOCATION;VALUE=URI;X-ADDRESS=915 E. Washington St\, Ann 
 Arbor\, Michigan\, 48109\, University of Michigan\, United States;X-APPLE-
 RADIUS=100;X-TITLE=Top of the Park:geo:42.2807892,-83.73815560000003
END:VEVENT
BEGIN:VTIMEZONE
TZID:America/Detroit
X-LIC-LOCATION:America/Detroit
BEGIN:DAYLIGHT
DTSTART:20260308T030000
TZOFFSETFROM:-0500
TZOFFSETTO:-0400
TZNAME:EDT
END:DAYLIGHT
END:VTIMEZONE
END:VCALENDAR