BEGIN:VCALENDAR
VERSION:2.0
PRODID:-//wp-events-plugin.com//7.2.3.1//EN
TZID:America/Detroit
X-WR-TIMEZONE:America/Detroit
BEGIN:VEVENT
UID:76776@annarborwithkids.com
DTSTART;TZID=America/Detroit:20260206T173000
DTEND;TZID=America/Detroit:20260206T193000
DTSTAMP:20260129T225504Z
URL:https://annarborwithkids.com/events/beauty-and-the-beast-family-ball/
SUMMARY:Beauty and the Beast Family Ball
DESCRIPTION:\nYou are cordially invited to a gorgeous formal family dance\,
  where you can dress up\, dance like the belle of the ball\, learn to walt
 z with a dance waltz lesson\, meet Belle and eat tasty treats! The ballroo
 m will be decorated to fit the formal occasion.\n\n\n\nThis is a fancy fam
 ily affair and Stone Chalet looks forward to welcoming the lords and ladie
 s of the land with their children.\n\n\n\nSnacks will be provided. Each ch
 ild will receive a nice selection of favors and treats to take home.\n\n\n
 \n\n\nTickets are more limited than their normal events.\n\n\n
CATEGORIES:Advance Registration,Arbor Annie's
 Highlights,Crafts,Elementary,Food,High Schoolers,Indoor Activities,Middle
 Schoolers,Pop Culture,Preschoolers,Registration
 Required,Toddler,Valentine's Day
LOCATION:Stone Chalet Events\, 1917 Washtenaw Ave\, Ann Arbor\, Michigan\, 
 48104\, United States
GEO:42.26844699999999;-83.72233829999999
X-APPLE-STRUCTURED-LOCATION;VALUE=URI;X-ADDRESS=1917 Washtenaw Ave\, Ann Ar
 bor\, Michigan\, 48104\, United States;X-APPLE-RADIUS=100;X-TITLE=Stone Ch
 alet Events:geo:42.26844699999999,-83.72233829999999
END:VEVENT
BEGIN:VTIMEZONE
TZID:America/Detroit
X-LIC-LOCATION:America/Detroit
BEGIN:STANDARD
DTSTART:20251102T010000
TZOFFSETFROM:-0400
TZOFFSETTO:-0500
TZNAME:EST
END:STANDARD
END:VTIMEZONE
END:VCALENDAR