BEGIN:VCALENDAR
VERSION:2.0
PRODID:-//wp-events-plugin.com//7.2.3.1//EN
TZID:America/Detroit
X-WR-TIMEZONE:America/Detroit
BEGIN:VEVENT
UID:77013@annarborwithkids.com
DTSTART;TZID=America/Detroit:20260417T100000
DTEND;TZID=America/Detroit:20260417T104500
DTSTAMP:20260323T220044Z
URL:https://annarborwithkids.com/events/ballet-storytime-preview-performan
 ce/
SUMMARY:Ballet Storytime & Preview Performance
DESCRIPTION:\nJoin Dexter District Library for a special Ballet Story Time 
 and then watch Ballet Chelsea\, who will share a preview of their spring b
 allet\, Alice in Wonderland.\n\n\n\nThey’ll begin with a short story ti
 me\, followed by dancers performing parts of their show while in costume.&
 nbsp\;Registration is not required.\n\n\n\nFor children of all ages.\n\n\n
 \n\n\n\n
CATEGORIES:Arbor Annie's Highlights,Dance,Free,Indoor
 Activities,Preschoolers,Storytime,Toddler
LOCATION:Dexter District Library\, 3255 Alpine St\, Dexter\, Michigan\, 481
 30\, Dexter\, United States
GEO:42.340266;-83.88900000000001
X-APPLE-STRUCTURED-LOCATION;VALUE=URI;X-ADDRESS=3255 Alpine St\, Dexter\, M
 ichigan\, 48130\, Dexter\, United States;X-APPLE-RADIUS=100;X-TITLE=Dexter
  District Library:geo:42.340266,-83.88900000000001
END:VEVENT
BEGIN:VTIMEZONE
TZID:America/Detroit
X-LIC-LOCATION:America/Detroit
BEGIN:DAYLIGHT
DTSTART:20260308T030000
TZOFFSETFROM:-0500
TZOFFSETTO:-0400
TZNAME:EDT
END:DAYLIGHT
END:VTIMEZONE
END:VCALENDAR