BEGIN:VCALENDAR
VERSION:2.0
PRODID:-//wp-events-plugin.com//7.2.3.1//EN
TZID:America/Detroit
X-WR-TIMEZONE:America/Detroit
BEGIN:VEVENT
UID:57241@annarborwithkids.com
DTSTART;TZID=America/Detroit:20260502T190000
DTEND;TZID=America/Detroit:20260502T190000
DTSTAMP:20260409T150646Z
URL:https://annarborwithkids.com/events/ballet-chelsea-presents-gershwin/
SUMMARY:Ballet Chelsea - Alice in Wonderland
DESCRIPTION:\nBallet Chelsea’s production of Alice in Wonderland will fea
 ture brand new choreography\, costumes\, and sets. The production will be 
 full of fun and whimsy. Audience members will get to follow along with Ali
 ce as she meets all of Wonderland’s iconic characters\, including the Ma
 d Hatter\, the Queen of Hearts\, the Cheshire Cat\, and more. Set to music
  by Tchaikovsky and arranged by Carl Davis\, this new production will show
 case the talents of Ballet Chelsea’s Performance Company as they bring t
 o life the well-known characters of Wonderland through music and movement.
 \n\n\n\nAdvanced tickets are $32 for adults and $27 for children (2-18)\, 
 students and seniors 62+.\n\n\n\nTickets can be purchased at Ballet Chelse
 a’s website. For more information\, call Ballet Chelsea at (734) 475-307
 0\, or email jean@balletchelsea.org.\n\n\n\n\n\nShow Times\n\n\n\n[events_
 list tag="ballet chelsea" scope="2026-04-01\,2026-05-31"][/events_list]\n\
 n\n\n\n
CATEGORIES:Arbor Annie's Highlights,Dance,Elementary,High Schoolers,Indoor
 Activities,Middle Schoolers,Music/Concerts,Parents,Theater
LOCATION:Chelsea High School Performing Arts Center\, 740 N. Freer Rd.\, Ch
 elsea\, Michigan\, 48118\, Michigan\, United States
GEO:42.3112425;-84.00259199999999
X-APPLE-STRUCTURED-LOCATION;VALUE=URI;X-ADDRESS=740 N. Freer Rd.\, Chelsea\
 , Michigan\, 48118\, Michigan\, United States;X-APPLE-RADIUS=100;X-TITLE=C
 helsea High School Performing Arts Center:geo:42.3112425,-84.0025919999999
 9
END:VEVENT
BEGIN:VTIMEZONE
TZID:America/Detroit
X-LIC-LOCATION:America/Detroit
BEGIN:DAYLIGHT
DTSTART:20260308T030000
TZOFFSETFROM:-0500
TZOFFSETTO:-0400
TZNAME:EDT
END:DAYLIGHT
END:VTIMEZONE
END:VCALENDAR