BEGIN:VCALENDAR
VERSION:2.0
PRODID:-//wp-events-plugin.com//7.2.3.1//EN
TZID:America/Detroit
X-WR-TIMEZONE:America/Detroit
BEGIN:VEVENT
UID:87966@annarborwithkids.com
DTSTART;TZID=America/Detroit:20250820T160000
DTEND;TZID=America/Detroit:20250820T193000
DTSTAMP:20250814T211541Z
URL:https://annarborwithkids.com/events/back-to-school-splitterpalooza/
SUMMARY:Back to School Splitterpalooza
DESCRIPTION:\nLincoln Consolidated School district families are invited to 
 Back to School Splitterpalooza to celebrate the start of the new school ye
 ar.\n\n\n\nInside the Lincoln Athletic Building there will be:\n\n\n\n\nBo
 unce Houses\n\n\n\nGames &amp\; Activities\n\n\n\nCommunity Tables &amp\; 
 Resources\n\n\n\nLCS Hub\n\n\n\n\nOutside around the stadium there will be
 : \n\n\n\n\nFood concessions &amp\; Food Trucks\n\n\n\nSensory Trailer\n\n
 \n\nMain Stage\n\n\n\nGiveaways\n\n\n\n\nThe Lincoln High School Marching 
 Band will perform live at the stadium. After the performance\, all of the 
 high school fall athletic teams will be introduced.\n\n\n\nElementary Open
  Houses will happen during the event.\n\n\n\nThere will be Food Combo spec
 ials from Concessions and Food Trucks. There will be $5 hot dog and drin o
 r $7 pizza slice and drink.\n\n\n\n\n
CATEGORIES:Arbor Annie's Highlights,Elementary,Elementary School Open
 House,Food,Free,Games,High Schoolers,Middle Schoolers,Sport
LOCATION:Lincoln Athletic Building\, 7267 Willis Rd\, Ypsilanti\, Michigan\
 , 48197\, Ypsilanti Township\, United States
X-APPLE-STRUCTURED-LOCATION;VALUE=URI;X-ADDRESS=7267 Willis Rd\, Ypsilanti\
 , Michigan\, 48197\, Ypsilanti Township\, United States;X-APPLE-RADIUS=100
 ;X-TITLE=Lincoln Athletic Building:geo:0,0
END:VEVENT
BEGIN:VTIMEZONE
TZID:America/Detroit
X-LIC-LOCATION:America/Detroit
BEGIN:DAYLIGHT
DTSTART:20250309T030000
TZOFFSETFROM:-0500
TZOFFSETTO:-0400
TZNAME:EDT
END:DAYLIGHT
END:VTIMEZONE
END:VCALENDAR