BEGIN:VCALENDAR
VERSION:2.0
PRODID:-//wp-events-plugin.com//7.2.3.1//EN
TZID:America/Detroit
X-WR-TIMEZONE:America/Detroit
BEGIN:VEVENT
UID:69607@annarborwithkids.com
DTSTART;TZID=America/Detroit:20230226T133000
DTEND;TZID=America/Detroit:20230226T180000
DTSTAMP:20230126T215222Z
URL:https://annarborwithkids.com/events/audition-for-ypts-mamma-mia/
SUMMARY:Audition for YPT's Mamma Mia!
DESCRIPTION:\nAudition to take part in YPT's Mamma Mia!. Sign up for one au
 dition spot. Callbacks will be February 19-20. Roles are available for gra
 des K-12.\n\n\n\nAdvance signup for an audition slot is required. Signups 
 open at 9a on January 28.\n\n\n\nPerformances are May 12-14\n
CATEGORIES:Advance Registration,Elementary,High Schoolers,Indoor
 Activities,Middle Schoolers,Theater
LOCATION:YPT Studio\, 331 Metty Dr\, Suite #3\, Ann Arbor\, Michigan\, 4810
 3\, West\, United States
GEO:42.2953707;-83.86575749999997
X-APPLE-STRUCTURED-LOCATION;VALUE=URI;X-ADDRESS=331 Metty Dr\, Suite #3\, A
 nn Arbor\, Michigan\, 48103\, West\, United States;X-APPLE-RADIUS=100;X-TI
 TLE=YPT Studio:geo:42.2953707,-83.86575749999997
END:VEVENT
BEGIN:VTIMEZONE
TZID:America/Detroit
X-LIC-LOCATION:America/Detroit
BEGIN:STANDARD
DTSTART:20221106T010000
TZOFFSETFROM:-0400
TZOFFSETTO:-0500
TZNAME:EST
END:STANDARD
END:VTIMEZONE
END:VCALENDAR