BEGIN:VCALENDAR
VERSION:2.0
PRODID:-//wp-events-plugin.com//7.2.3.1//EN
TZID:America/Detroit
X-WR-TIMEZONE:America/Detroit
BEGIN:VEVENT
UID:93592@annarborwithkids.com
DTSTART;TZID=America/Detroit:20260509T130000
DTEND;TZID=America/Detroit:20260509T140000
DTSTAMP:20260424T180654Z
URL:https://annarborwithkids.com/events/artemis-ii-were-back/
SUMMARY:Artemis II: We're Back
DESCRIPTION:\nIt's been almost 4 years since Artemis I orbited the moon. Ar
 temis II finally launched this year and now it's back! Why did it take so 
 long between missions? What happened on this trip? How are the astronauts?
  When will we get human boots back on the Moon? NASA/JPL Solar System Amba
 ssador Jennifer German provides answers and the latest updates from NASA o
 n the next set of Moon landings for a new generation.\n\n\n\nFor Grade 1-A
 dult. \n\n\n\n\n
CATEGORIES:Animals,Arbor Annie's Highlights,Elementary,Free,High
 Schoolers,Indoor Activities,Middle Schoolers,Parents,STEM
LOCATION:Malletts Creek Branch Library\, 3090 E Eisenhower Parkway\, Ann Ar
 bor\, Michigan\, 48108\, South\, United States
GEO:42.2436533;-83.71799220000003
X-APPLE-STRUCTURED-LOCATION;VALUE=URI;X-ADDRESS=3090 E Eisenhower Parkway\,
  Ann Arbor\, Michigan\, 48108\, South\, United States;X-APPLE-RADIUS=100;X
 -TITLE=Malletts Creek Branch Library:geo:42.2436533,-83.71799220000003
END:VEVENT
BEGIN:VTIMEZONE
TZID:America/Detroit
X-LIC-LOCATION:America/Detroit
BEGIN:DAYLIGHT
DTSTART:20260308T030000
TZOFFSETFROM:-0500
TZOFFSETTO:-0400
TZNAME:EDT
END:DAYLIGHT
END:VTIMEZONE
END:VCALENDAR