BEGIN:VCALENDAR
VERSION:2.0
PRODID:-//wp-events-plugin.com//7.2.3.1//EN
TZID:America/Detroit
X-WR-TIMEZONE:America/Detroit
BEGIN:VEVENT
UID:93494@annarborwithkids.com
DTSTART;TZID=America/Detroit:20260421T180000
DTEND;TZID=America/Detroit:20260421T200000
DTSTAMP:20260409T140821Z
URL:https://annarborwithkids.com/events/art-of-connection/
SUMMARY:Art of Connection
DESCRIPTION:\nThe Neutral Zone is holding Art of Connection - Building Belo
 nging through a Community Mosaic Project. The night will celebrate positiv
 e mental health in young people. It will include dinner\, connecting with 
 each other\, and creating a tile for a community mosaic.\n\n\n\nThe event 
 is FREE and open to community members of all ages. All materials and dinne
 r are included. Please RSVP here.\n
CATEGORIES:Advance Registration,Arbor Annie's
 Highlights,Crafts,Food,Free,Health,High Schoolers,Indoor Activities,Middle
 Schoolers,Parents,Registration Required
LOCATION:Neutral Zone\, 310 E. Washington St\, Ann Arbor\, Michigan\, 48104
 \, Downtown\, United States
GEO:42.2801422;-83.74561110000002
X-APPLE-STRUCTURED-LOCATION;VALUE=URI;X-ADDRESS=310 E. Washington St\, Ann 
 Arbor\, Michigan\, 48104\, Downtown\, United States;X-APPLE-RADIUS=100;X-T
 ITLE=Neutral Zone:geo:42.2801422,-83.74561110000002
END:VEVENT
BEGIN:VTIMEZONE
TZID:America/Detroit
X-LIC-LOCATION:America/Detroit
BEGIN:DAYLIGHT
DTSTART:20260308T030000
TZOFFSETFROM:-0500
TZOFFSETTO:-0400
TZNAME:EDT
END:DAYLIGHT
END:VTIMEZONE
END:VCALENDAR