BEGIN:VCALENDAR
VERSION:2.0
PRODID:-//wp-events-plugin.com//7.2.3.1//EN
TZID:America/Detroit
X-WR-TIMEZONE:America/Detroit
BEGIN:VEVENT
UID:29704@annarborwithkids.com
DTSTART;TZID=America/Detroit:20260419T074500
DTEND;TZID=America/Detroit:20260419T110000
DTSTAMP:20260224T173714Z
URL:https://annarborwithkids.com/events/april-fools-day-twinkie-run/
SUMMARY:Twinkie Run
DESCRIPTION:\nJoin Active Against ALS for the annual Ann Arbor Twinkie Run.
  \n\n\n\nKids 12 &amp\; under race free. Strollers are discouraged due to 
 the terrain at Gallup Park\n\n\n\nRates: \n\n\n\n\nBy April 5 - $25\n\n\n\
 nApril 6-April 18 - $35\n\n\n\nRace Day (if not full) - $45\n\n\n\nPre ord
 er t-shirts -$20\n\n\n\nDay of run t-shirts - $25 (limited quantities)\n\n
 \n\n\nMake plans to run - and eat some Twinkies.\n\n\n\nRace Number pickup
  is 7:45-8:59a. Race starts at 9a.\n\n\n\n\n
CATEGORIES:Advance Registration,Arbor Annie's Highlights,Charitable
 Event,Elementary,Fitness/Health,High Schoolers,Middle
 Schoolers,Parents,Race,Sport
LOCATION:Gallup Park\, 3000 Fuller Rd\, Ann Arbor\, Michigan\, 48105\, East
  Ann Arbor\, United States
GEO:42.2769371;-83.70015619999998
X-APPLE-STRUCTURED-LOCATION;VALUE=URI;X-ADDRESS=3000 Fuller Rd\, Ann Arbor\
 , Michigan\, 48105\, East Ann Arbor\, United States;X-APPLE-RADIUS=100;X-T
 ITLE=Gallup Park:geo:42.2769371,-83.70015619999998
END:VEVENT
BEGIN:VTIMEZONE
TZID:America/Detroit
X-LIC-LOCATION:America/Detroit
BEGIN:DAYLIGHT
DTSTART:20260308T030000
TZOFFSETFROM:-0500
TZOFFSETTO:-0400
TZNAME:EDT
END:DAYLIGHT
END:VTIMEZONE
END:VCALENDAR