BEGIN:VCALENDAR
VERSION:2.0
PRODID:-//wp-events-plugin.com//7.2.3.1//EN
TZID:America/Detroit
X-WR-TIMEZONE:America/Detroit
BEGIN:VEVENT
UID:22933@annarborwithkids.com
DTSTART;TZID=America/Detroit:20191201T170000
DTEND;TZID=America/Detroit:20191201T190000
DTSTAMP:20211102T033458Z
URL:https://annarborwithkids.com/events/annual-tree-lighting-festival-2/
SUMMARY:Annual Tree Lighting Festival
DESCRIPTION:Join Kerrytown Market &amp\; Shops&nbsp\;as Santa&nbsp\;lights 
 the tree in Kerrytown's courtyard. There will also be candle luminaries an
 d&nbsp\;Christmas carols.
CATEGORIES:Arbor Annie's Highlights,Christmas,Elementary,Free,High
 Schoolers,Holidays,Middle
 Schoolers,Parents,Preschoolers,Santa,Toddler,Tree Lighting
LOCATION:Kerrytown Market & Shops\, 407 N. Fifth Avenue\, Ann Arbor\, Michi
 gan\, 48104\, Kerrytown\, United States
GEO:42.2843336;-83.74610860000001
X-APPLE-STRUCTURED-LOCATION;VALUE=URI;X-ADDRESS=407 N. Fifth Avenue\, Ann A
 rbor\, Michigan\, 48104\, Kerrytown\, United States;X-APPLE-RADIUS=100;X-T
 ITLE=Kerrytown Market & Shops:geo:42.2843336,-83.74610860000001
END:VEVENT
BEGIN:VTIMEZONE
TZID:America/Detroit
X-LIC-LOCATION:America/Detroit
BEGIN:STANDARD
DTSTART:20191103T010000
TZOFFSETFROM:-0400
TZOFFSETTO:-0500
TZNAME:EST
END:STANDARD
END:VTIMEZONE
END:VCALENDAR