BEGIN:VCALENDAR
VERSION:2.0
PRODID:-//wp-events-plugin.com//7.2.3.1//EN
TZID:America/Detroit
X-WR-TIMEZONE:America/Detroit
BEGIN:VEVENT
UID:28428@annarborwithkids.com
DTSTART;TZID=America/Detroit:20240505T083000
DTEND;TZID=America/Detroit:20240505T103000
DTSTAMP:20260325T221653Z
URL:https://annarborwithkids.com/events/annual-burns-park-run/
SUMMARY:48th Annual Burns Park Run
DESCRIPTION:\nIt’s time once again for the Burns Park Run! Join them on S
 unday\, May 3. Registration is now open for just $25. The Burns Park Run i
 s a long-standing and successful fundraiser\, organized and run by volunte
 ers\, that supports Burns Park Elementary PTO programs.\n\n\n\nEvents:\n\n
 \n\n\n8:30-9:30a 5K Run/Walk - $35\n\n\n\n8:40-10a 10K Run Walk - $40\n\n\
 n\n9:45-10a 1/2 Mile Fun Run - $5\n\n\n\nVirtual 5K - $25\n\n\n\n\nThe 1/2
  mile Fun Run is available for just $5 to allow almost everyone to partici
 pate. \n\n\n\nThere are a lot of opportunities for parents to get involved
 \, so please check out their volunteer sign-up. \n\n\n\n\n\n\n\n\n\n[wpv-v
 iew name="linked-playground"]\n
CATEGORIES:Advance Registration,Arbor Annie's Highlights,Charitable
 Event,Elementary,High Schoolers,Middle
 Schoolers,Other,Parents,Preschoolers,Race,School
 Fundraiser,Sport,Toddler,Virtual
LOCATION:Burns Park School\, 1414 Wells\, Ann Arbor\, Michigan\, 48104\, So
 uth\, United States
GEO:42.26589;-83.730321
X-APPLE-STRUCTURED-LOCATION;VALUE=URI;X-ADDRESS=1414 Wells\, Ann Arbor\, Mi
 chigan\, 48104\, South\, United States;X-APPLE-RADIUS=100;X-TITLE=Burns Pa
 rk School:geo:42.26589,-83.730321
END:VEVENT
BEGIN:VTIMEZONE
TZID:America/Detroit
X-LIC-LOCATION:America/Detroit
BEGIN:DAYLIGHT
DTSTART:20240310T030000
TZOFFSETFROM:-0500
TZOFFSETTO:-0400
TZNAME:EDT
END:DAYLIGHT
END:VTIMEZONE
END:VCALENDAR